BEGIN:VCALENDAR
VERSION:2.0
PRODID:-//Littleton Business Chamber - ECPv6.15.20//NONSGML v1.0//EN
CALSCALE:GREGORIAN
METHOD:PUBLISH
X-WR-CALNAME:Littleton Business Chamber
X-ORIGINAL-URL:https://littletonbusinesschamber.org
X-WR-CALDESC:Events for Littleton Business Chamber
REFRESH-INTERVAL;VALUE=DURATION:PT1H
X-Robots-Tag:noindex
X-PUBLISHED-TTL:PT1H
BEGIN:VTIMEZONE
TZID:America/Denver
BEGIN:DAYLIGHT
TZOFFSETFROM:-0700
TZOFFSETTO:-0600
TZNAME:MDT
DTSTART:20250309T090000
END:DAYLIGHT
BEGIN:STANDARD
TZOFFSETFROM:-0600
TZOFFSETTO:-0700
TZNAME:MST
DTSTART:20251102T080000
END:STANDARD
BEGIN:DAYLIGHT
TZOFFSETFROM:-0700
TZOFFSETTO:-0600
TZNAME:MDT
DTSTART:20260308T090000
END:DAYLIGHT
BEGIN:STANDARD
TZOFFSETFROM:-0600
TZOFFSETTO:-0700
TZNAME:MST
DTSTART:20261101T080000
END:STANDARD
BEGIN:DAYLIGHT
TZOFFSETFROM:-0700
TZOFFSETTO:-0600
TZNAME:MDT
DTSTART:20270314T090000
END:DAYLIGHT
BEGIN:STANDARD
TZOFFSETFROM:-0600
TZOFFSETTO:-0700
TZNAME:MST
DTSTART:20271107T080000
END:STANDARD
END:VTIMEZONE
BEGIN:VEVENT
DTSTART;TZID=America/Denver:20260422T080000
DTEND;TZID=America/Denver:20260422T123000
DTSTAMP:20260422T091229
CREATED:20260116T235039Z
LAST-MODIFIED:20260413T230331Z
UID:10000412-1776844800-1776861000@littletonbusinesschamber.org
SUMMARY:3rd Annual Women in Leadership Littleton Conference
DESCRIPTION:  \nThis year’s Event is SOLD OUT! \nJoin us for the 3rd Annual Women in Leadership Littleton Conference \nSponsorships Available – for more information contact Beth Best  bbest@lps.k12.co.us \n\nPresenting Sponsor – $2000\nEvent Sponsorship – $1500\nFood Sponsorship – $1250\nTable Sponsorship – $700\nWelcome & Check-in Table – SOLD OUT\nCan’t attend Sponsorship – $250\nVendor Table Sponsorship – $100\n\n  \n  \n  \n 
URL:https://littletonbusinesschamber.org/event/3rd-annual-women-in-leadership-littleton-conference/
LOCATION:Arapahoe Community College\, 5900 S Santa Fe Dr\, Littleton\, CO\, 80120\, United States
CATEGORIES:Chamber Event Calendar
ATTACH;FMTTYPE=image/jpeg:https://littletonbusinesschamber.org/wp-content/uploads/26-Womens-Leadership-Conference-image-flyer.jpg
END:VEVENT
BEGIN:VEVENT
DTSTART;TZID=America/Denver:20260424T150000
DTEND;TZID=America/Denver:20260424T163000
DTSTAMP:20260422T091229
CREATED:20260225T223123Z
LAST-MODIFIED:20260225T223124Z
UID:10000432-1777042800-1777048200@littletonbusinesschamber.org
SUMMARY:Ribbon Cutting for Amy Eeman Ghaibeh\, MD - MDVIP Program
DESCRIPTION:Welcome Dr. Amy Eeamn Ghaibeh\, internal medicine doctor\, to Littleton. \nDr Ghaibeh grew up in a small Colorado town and understand the value of personal connections. Her father was one of the town physicians\, and she grew up watching him enjoy bumping into his patients at the grocery store or at school events. She thoroughly enjoys getting to know her patients on a personal level\, which she believe makes all the difference in primary care. She have a compassionate\, warm bedside manner and treat her patients as if they are members of her family. \nMember benefits include Same-day or next-day appointments\, Personalized preventive care\, Reliable after-hours availability\, Seamless referrals.  Join us and learn about this new approach to medical care.  We will be cutting the Ribbon at 3:30 pm \n\n		\n		\n\n	Join 11 others! 	\n\n	\n\n		\n		\n		\n		\n			\n			\n	\n\n		First*\n		\n				\n						\n\n\n\n		Last*\n		\n				\n						\n\n\n\n		Email*\n		\n				\n						\n\n\n\n		Please verify that you are not a robot*\n		\n				\n							\n\n\n		\n\n		\n			Comments\n			\n				\n				If you are a human\, do not fill in this field \n			\n		\n\n		\n			\n		\n\n	\n\n	\n			\n\n\n		\n			Already registered?\n			Already registered? \n\n			\n				Use this tool to manage your registration. \n				\n\n					\n						\n							Enter your registered email address*
URL:https://littletonbusinesschamber.org/event/ribbon-cutting-for-amy-eeman-ghaibeh-md-mdvip-program/
LOCATION:Dr. Ghaibeh Office\, 1420 W. Canal Ct St 100\, Littleton\, CO\, 80120
CATEGORIES:Chamber Event Calendar
ATTACH;FMTTYPE=image/jpeg:https://littletonbusinesschamber.org/wp-content/uploads/download-9.jpg
END:VEVENT
BEGIN:VEVENT
DTSTART;TZID=America/Denver:20260427T143000
DTEND;TZID=America/Denver:20260427T160000
DTSTAMP:20260422T091229
CREATED:20260330T194341Z
LAST-MODIFIED:20260330T194411Z
UID:10000450-1777300200-1777305600@littletonbusinesschamber.org
SUMMARY:"Littleton Eatz" Restaurant & Hospitality Committee
DESCRIPTION:Join 4 others! 	\n\n	\n\n		\n		\n		\n		\n			\n			\n	\n\n		First*\n		\n				\n						\n\n\n\n		Last*\n		\n				\n						\n\n\n\n		Email*\n		\n				\n						\n\n\n\n		Please verify that you are not a robot*\n		\n				\n							\n\n\n		\n\n		\n			Comments\n			\n				\n				If you are a human\, do not fill in this field \n			\n		\n\n		\n			\n		\n\n	\n\n	\n			\n\n\n		\n			Already registered?\n			Already registered? \n\n			\n				Use this tool to manage your registration. \n				\n\n					\n						\n							Enter your registered email address*
URL:https://littletonbusinesschamber.org/event/littleton-eatz-restaurant-hospitality-committee-5/
LOCATION:Kiln Workspaces Littleton\, 2650 W. Belleview Ave\, Littleton\, 80123\, United States
CATEGORIES:Chamber Event Calendar
ATTACH;FMTTYPE=image/webp:https://littletonbusinesschamber.org/wp-content/uploads/restaurant-hospitality-logo-UYDvsM.tmp_.webp
END:VEVENT
BEGIN:VEVENT
DTSTART;TZID=America/Denver:20260430T161500
DTEND;TZID=America/Denver:20260430T180000
DTSTAMP:20260422T091229
CREATED:20260225T225906Z
LAST-MODIFIED:20260225T230744Z
UID:10000433-1777565700-1777572000@littletonbusinesschamber.org
SUMMARY:Grand Opening Ribbon Cutting Little Legends Athletics
DESCRIPTION:Join Jessica and Linas as they open Living Legends Athletics right next to Kiln (the chamber office.  Please bring your kids\, aged 6mo-12 years to experience the space firsthand. They will be giving tours and will have refreshments.  We will be cutting the ribbon at 4:30! \nLittle Legends Athletics is a family-owned recreational gymnastics and ninja facility located in Littleton\, Colorado. Founded by Olympian Jessica López and NCAA Champion and world-class coach Linas Gaveika\, their mission is to build confident kids through movement and play\, while fostering skill development and positive coaching in a supportive environment. They offer parent-tot classes\, preschool and youth gymnastics\, ninja training\, camps\, open gym\, birthday parties\, and special events such as Parents’ Night Out. Programs are structured\, engaging\, and beginner-friendly\, helping children develop coordination\, strength\, discipline\, and self-confidence—no prior experience required. At Little Legends Athletics\, they are committed to serving families in the Littleton community by creating a safe\, welcoming space where children can grow\, thrive\, and discover their potential through positive movement experiences. \n\n		\n		\n\n	Join 9 others! 	\n\n	\n\n		\n		\n		\n		\n			\n			\n	\n\n		First*\n		\n				\n						\n\n\n\n		Last*\n		\n				\n						\n\n\n\n		Email*\n		\n				\n						\n\n\n\n		Please verify that you are not a robot*\n		\n				\n							\n\n\n		\n\n		\n			Comments\n			\n				\n				If you are a human\, do not fill in this field \n			\n		\n\n		\n			\n		\n\n	\n\n	\n			\n\n\n		\n			Already registered?\n			Already registered? \n\n			\n				Use this tool to manage your registration. \n				\n\n					\n						\n							Enter your registered email address*
URL:https://littletonbusinesschamber.org/event/grand-opening-ribbon-cutting-little-legends-athletics/
LOCATION:Little Legends Athletics\, 2650 W. Belleview Ave Ste 200\, 80123\, United States
CATEGORIES:Chamber Event Calendar
ATTACH;FMTTYPE=image/jpeg:https://littletonbusinesschamber.org/wp-content/uploads/download-9.jpg
END:VEVENT
END:VCALENDAR