BEGIN:VCALENDAR
VERSION:2.0
PRODID:-//Littleton Business Chamber - ECPv6.15.20//NONSGML v1.0//EN
CALSCALE:GREGORIAN
METHOD:PUBLISH
X-ORIGINAL-URL:https://littletonbusinesschamber.org
X-WR-CALDESC:Events for Littleton Business Chamber
REFRESH-INTERVAL;VALUE=DURATION:PT1H
X-Robots-Tag:noindex
X-PUBLISHED-TTL:PT1H
BEGIN:VTIMEZONE
TZID:America/Denver
BEGIN:DAYLIGHT
TZOFFSETFROM:-0700
TZOFFSETTO:-0600
TZNAME:MDT
DTSTART:20250309T090000
END:DAYLIGHT
BEGIN:STANDARD
TZOFFSETFROM:-0600
TZOFFSETTO:-0700
TZNAME:MST
DTSTART:20251102T080000
END:STANDARD
BEGIN:DAYLIGHT
TZOFFSETFROM:-0700
TZOFFSETTO:-0600
TZNAME:MDT
DTSTART:20260308T090000
END:DAYLIGHT
BEGIN:STANDARD
TZOFFSETFROM:-0600
TZOFFSETTO:-0700
TZNAME:MST
DTSTART:20261101T080000
END:STANDARD
BEGIN:DAYLIGHT
TZOFFSETFROM:-0700
TZOFFSETTO:-0600
TZNAME:MDT
DTSTART:20270314T090000
END:DAYLIGHT
BEGIN:STANDARD
TZOFFSETFROM:-0600
TZOFFSETTO:-0700
TZNAME:MST
DTSTART:20271107T080000
END:STANDARD
END:VTIMEZONE
BEGIN:VEVENT
DTSTART;TZID=America/Denver:20260812T160000
DTEND;TZID=America/Denver:20260812T180000
DTSTAMP:20260423T085146
CREATED:20260303T022034Z
LAST-MODIFIED:20260303T022034Z
UID:10000436-1786550400-1786557600@littletonbusinesschamber.org
SUMMARY:August Business After Hours at Platte River Bar & Grill
DESCRIPTION:Join us for amazing food\, an amazing view\, and amazing company at Platte River Bar & Grill \nFirst round is on the chamber. \n\n		\n		\n\n	Join 57 others! 	\n\n	\n\n		\n		\n		\n		\n			\n			\n	\n\n		First*\n		\n				\n						\n\n\n\n		Last*\n		\n				\n						\n\n\n\n		Email*\n		\n				\n						\n\n\n\n		Please verify that you are not a robot*\n		\n				\n							\n\n\n		\n\n		\n			Comments\n			\n				\n				If you are a human\, do not fill in this field \n			\n		\n\n		\n			\n		\n\n	\n\n	\n			\n\n\n		\n			Already registered?\n			Already registered? \n\n			\n				Use this tool to manage your registration. \n				\n\n					\n						\n							Enter your registered email address*
URL:https://littletonbusinesschamber.org/event/august-business-after-hours-at-platte-river-bar-grill/
LOCATION:Platte River Bar and Grill\, 5995 S. Santa Fe Drive\, Littleton\, CO\, 80120
CATEGORIES:Chamber Event Calendar
ATTACH;FMTTYPE=image/jpeg:https://littletonbusinesschamber.org/wp-content/uploads/business-after-hours.jpg
END:VEVENT
BEGIN:VEVENT
DTSTART;TZID=America/Denver:20260820T170000
DTEND;TZID=America/Denver:20260820T190000
DTSTAMP:20260423T085146
CREATED:20260421T192828Z
LAST-MODIFIED:20260421T195024Z
UID:10000457-1787245200-1787252400@littletonbusinesschamber.org
SUMMARY:Women in Leadership with Now or Never Travel
DESCRIPTION:
URL:https://littletonbusinesschamber.org/event/women-in-leadership-with-now-or-never-travel/
CATEGORIES:Chamber Event Calendar
END:VEVENT
END:VCALENDAR