BEGIN:VCALENDAR
VERSION:2.0
PRODID:-//Littleton Business Chamber - ECPv6.15.20//NONSGML v1.0//EN
CALSCALE:GREGORIAN
METHOD:PUBLISH
X-WR-CALNAME:Littleton Business Chamber
X-ORIGINAL-URL:https://littletonbusinesschamber.org
X-WR-CALDESC:Events for Littleton Business Chamber
REFRESH-INTERVAL;VALUE=DURATION:PT1H
X-Robots-Tag:noindex
X-PUBLISHED-TTL:PT1H
BEGIN:VTIMEZONE
TZID:America/Denver
BEGIN:DAYLIGHT
TZOFFSETFROM:-0700
TZOFFSETTO:-0600
TZNAME:MDT
DTSTART:20250309T090000
END:DAYLIGHT
BEGIN:STANDARD
TZOFFSETFROM:-0600
TZOFFSETTO:-0700
TZNAME:MST
DTSTART:20251102T080000
END:STANDARD
BEGIN:DAYLIGHT
TZOFFSETFROM:-0700
TZOFFSETTO:-0600
TZNAME:MDT
DTSTART:20260308T090000
END:DAYLIGHT
BEGIN:STANDARD
TZOFFSETFROM:-0600
TZOFFSETTO:-0700
TZNAME:MST
DTSTART:20261101T080000
END:STANDARD
BEGIN:DAYLIGHT
TZOFFSETFROM:-0700
TZOFFSETTO:-0600
TZNAME:MDT
DTSTART:20270314T090000
END:DAYLIGHT
BEGIN:STANDARD
TZOFFSETFROM:-0600
TZOFFSETTO:-0700
TZNAME:MST
DTSTART:20271107T080000
END:STANDARD
END:VTIMEZONE
BEGIN:VEVENT
DTSTART;TZID=America/Denver:20260708T170000
DTEND;TZID=America/Denver:20260708T190000
DTSTAMP:20260423T070830
CREATED:20260303T231644Z
LAST-MODIFIED:20260303T232026Z
UID:10000439-1783530000-1783537200@littletonbusinesschamber.org
SUMMARY:July Business After Hours at Huntington Bank Littleton
DESCRIPTION:  \nJoin us for some Summer Fun at our July Business After Hours with Huntington Bank. \nGreat food\, drinks\, and fellowship. \n\n		\n		\n\n	Join 16 others! 	\n\n	\n\n		\n		\n		\n		\n			\n			\n	\n\n		First*\n		\n				\n						\n\n\n\n		Last*\n		\n				\n						\n\n\n\n		Email*\n		\n				\n						\n\n\n\n		Please verify that you are not a robot*\n		\n				\n							\n\n\n		\n\n		\n			Comments\n			\n				\n				If you are a human\, do not fill in this field \n			\n		\n\n		\n			\n		\n\n	\n\n	\n			\n\n\n		\n			Already registered?\n			Already registered? \n\n			\n				Use this tool to manage your registration. \n				\n\n					\n						\n							Enter your registered email address*
URL:https://littletonbusinesschamber.org/event/july-business-after-hours-at-huntington-bank-littleton/
LOCATION:Huntington Bank Littleton\, 2690 W Belleview Ave\,\, Littleton\, CO\, 80123\, United States
CATEGORIES:Chamber Event Calendar
ATTACH;FMTTYPE=image/jpeg:https://littletonbusinesschamber.org/wp-content/uploads/after-hours.jpg
END:VEVENT
BEGIN:VEVENT
DTSTART;TZID=America/Denver:20260716T160000
DTEND;TZID=America/Denver:20260716T180000
DTSTAMP:20260423T070830
CREATED:20260410T183410Z
LAST-MODIFIED:20260410T183905Z
UID:10000456-1784217600-1784224800@littletonbusinesschamber.org
SUMMARY:Women in Leadership at Apothecary Fairy
DESCRIPTION:Join us for this fun event and meet Elia Buice\, owner of Apothecary Fairy.  Located on the south side of Aspen Grove in their newer\, larger location  to offer DIY workshops\, events and parties to include cold-process soap making\, candle pouring and botanical sugar scrub blending. Coming this November\, the next evolution of Apothecary Fairy will include refillable product options (liquid soap\, shampoo and botanical room spray to name a few).  And in addition to our stocked inventory\, we also offer custom scented options as well as for our online customers. \nWe will be drinking lavendar lemonade while participating in a candle-making experience.  The cost is $20 to participate. Please bring your $20 the day of the event. \nAgenda \n\n4:30 – 4:40 PM (10 minutes): Welcome\n4:40 – 4:55 PM (15 minutes): Introduction\, story\, and overview of Apothecary Fairy\n4:55 – 6:00 PM: Candle-making experience and open networking\n\nPlease let us know if you will be attending this fun event! \n\n		\n		\n\n	Join one other person 	\n\n	\n\n		\n		\n		\n		\n			\n			\n	\n\n		First*\n		\n				\n						\n\n\n\n		Last*\n		\n				\n						\n\n\n\n		Email*\n		\n				\n						\n\n\n\n		Please verify that you are not a robot*\n		\n				\n							\n\n\n		\n\n		\n			Comments\n			\n				\n				If you are a human\, do not fill in this field \n			\n		\n\n		\n			\n		\n\n	\n\n	\n			\n\n\n		\n			Already registered?\n			Already registered? \n\n			\n				Use this tool to manage your registration. \n				\n\n					\n						\n							Enter your registered email address*
URL:https://littletonbusinesschamber.org/event/women-in-leadership-at-apothecary-fairy/
LOCATION:Apothecary Fairy at Aspen Grove\, 7301 S. Santa Fe Drive\, Littleton\, 80120\, United States
CATEGORIES:Chamber Event Calendar
ATTACH;FMTTYPE=image/png:https://littletonbusinesschamber.org/wp-content/uploads/WILL-logo.png
END:VEVENT
END:VCALENDAR