BEGIN:VCALENDAR
VERSION:2.0
PRODID:-//Littleton Business Chamber - ECPv6.15.20//NONSGML v1.0//EN
CALSCALE:GREGORIAN
METHOD:PUBLISH
X-ORIGINAL-URL:https://littletonbusinesschamber.org
X-WR-CALDESC:Events for Littleton Business Chamber
REFRESH-INTERVAL;VALUE=DURATION:PT1H
X-Robots-Tag:noindex
X-PUBLISHED-TTL:PT1H
BEGIN:VTIMEZONE
TZID:America/Denver
BEGIN:DAYLIGHT
TZOFFSETFROM:-0700
TZOFFSETTO:-0600
TZNAME:MDT
DTSTART:20250309T090000
END:DAYLIGHT
BEGIN:STANDARD
TZOFFSETFROM:-0600
TZOFFSETTO:-0700
TZNAME:MST
DTSTART:20251102T080000
END:STANDARD
BEGIN:DAYLIGHT
TZOFFSETFROM:-0700
TZOFFSETTO:-0600
TZNAME:MDT
DTSTART:20260308T090000
END:DAYLIGHT
BEGIN:STANDARD
TZOFFSETFROM:-0600
TZOFFSETTO:-0700
TZNAME:MST
DTSTART:20261101T080000
END:STANDARD
BEGIN:DAYLIGHT
TZOFFSETFROM:-0700
TZOFFSETTO:-0600
TZNAME:MDT
DTSTART:20270314T090000
END:DAYLIGHT
BEGIN:STANDARD
TZOFFSETFROM:-0600
TZOFFSETTO:-0700
TZNAME:MST
DTSTART:20271107T080000
END:STANDARD
END:VTIMEZONE
BEGIN:VTIMEZONE
TZID:UTC
BEGIN:STANDARD
TZOFFSETFROM:+0000
TZOFFSETTO:+0000
TZNAME:UTC
DTSTART:20250101T000000
END:STANDARD
END:VTIMEZONE
BEGIN:VEVENT
DTSTART;TZID=America/Denver:20260304T160000
DTEND;TZID=America/Denver:20260304T190000
DTSTAMP:20260424T102903
CREATED:20260302T191449Z
LAST-MODIFIED:20260302T191450Z
UID:10000434-1772640000-1772650800@littletonbusinesschamber.org
SUMMARY:Littleton Lifestyle Magazine Event
DESCRIPTION:Littleton Lifestyle Magazine invites friends\, partners\, and community members to join them March 4th at 4 p.m. – 7 p.m. at the Creative Littleton event venue. \nEnjoy light appetizers and drinks – while mingling with members of the community. \nrsvp to Elizabeth.Watson@CityLifestyle.com
URL:https://littletonbusinesschamber.org/event/littleton-lifestyle-magazine-event/
LOCATION:Creative Spaces Littleton\, 5730 S. Curtice Street\, Littleton\, CO\, 80120\, United States
CATEGORIES:Chamber Event Calendar
END:VEVENT
BEGIN:VEVENT
DTSTART;TZID=America/Denver:20260306T083000
DTEND;TZID=America/Denver:20260306T170000
DTSTAMP:20260424T102903
CREATED:20260303T030034Z
LAST-MODIFIED:20260303T030059Z
UID:10000438-1772785800-1772816400@littletonbusinesschamber.org
SUMMARY:Kiln Monthly Coworking Chamber Day
DESCRIPTION:Kiln is hosting a monthly coworking day for Littleton Business Chamber members—especially those who work from home and would enjoy a professional space to connect and work alongside others. \nJoin us the first Friday of each month\, between 8:30 a.m. – 5:00 p.m. Check-in at Front desk when arriving \nRegistrations are closed for this event
URL:https://littletonbusinesschamber.org/event/kiln-monthly-coworking-chamber-day/
LOCATION:Kiln Workspaces Littleton\, 2650 W. Belleview Ave\, Littleton\, 80123\, United States
CATEGORIES:Chamber Event Calendar
ATTACH;FMTTYPE=image/jpeg:https://littletonbusinesschamber.org/wp-content/uploads/co-working-logo.jpg
END:VEVENT
BEGIN:VEVENT
DTSTART;TZID=America/Denver:20260306T090000
DTEND;TZID=America/Denver:20260306T100000
DTSTAMP:20260424T102903
CREATED:20251218T191640Z
LAST-MODIFIED:20260312T214417Z
UID:10000399-1772787600-1772791200@littletonbusinesschamber.org
SUMMARY:New Member Orientation
DESCRIPTION:We are excited to welcome you to the Littleton Business Chamber! As a new member\, (or current member who wants to get more involved) we invite you to attend our New Member Orientation Meeting. This is a great opportunity to learn more about the benefits of your membership\, connect with fellow members and Chamber Ambassadors\, and discover how to get involved in our community. \nRegistrations are closed for this event
URL:https://littletonbusinesschamber.org/event/new-member-orientation-10/
LOCATION:Kiln Workspaces Littleton\, 2650 W. Belleview Ave\, Littleton\, 80123\, United States
CATEGORIES:Chamber Event Calendar
ATTACH;FMTTYPE=image/jpeg:https://littletonbusinesschamber.org/wp-content/uploads/New_Member_Orientation_Logo.jpg
END:VEVENT
BEGIN:VEVENT
DTSTART;TZID=America/Denver:20260306T153000
DTEND;TZID=America/Denver:20260306T163000
DTSTAMP:20260424T102903
CREATED:20260219T235450Z
LAST-MODIFIED:20260225T221248Z
UID:10000426-1772811000-1772814600@littletonbusinesschamber.org
SUMMARY:Ribbon Cutting - Grand Opening of Karuna Care Services
DESCRIPTION:Karuna Care Services (KCS) is a service agency that specializes in person-centered residential\, day\, behavioral\, and employment support options. Guided by our core values of integrity\, compassion\, diversity and inclusion\, teamwork\, transparency\, curiosity\, and accountability\, we provide unique residential and community solutions tailored to the needs of the individuals we are privileged to serve.e \nThere will have an Open House 2-6pm\, We will be cutting the Red Ribbon at 4pm. \nThere will be food and snacks – join us and meet this great team. \nRegistrations are closed for this event \n 
URL:https://littletonbusinesschamber.org/event/ribbon-cutting-grand-opening-of-karuna-care-services/
LOCATION:Karuna Care Services\, 5984 S. Prince St. #101\, Littleton\, CO\, 80120\, United States
CATEGORIES:Chamber Event Calendar
ATTACH;FMTTYPE=image/jpeg:https://littletonbusinesschamber.org/wp-content/uploads/download-9.jpg
END:VEVENT
BEGIN:VEVENT
DTSTART;TZID=America/Denver:20260307T090000
DTEND;TZID=America/Denver:20260307T120000
DTSTAMP:20260424T102903
CREATED:20260219T232420Z
LAST-MODIFIED:20260226T173105Z
UID:10000425-1772874000-1772884800@littletonbusinesschamber.org
SUMMARY:Ribbon Cutting - Fase Lagree Grand Opening
DESCRIPTION:Join us for the Grand Opening of Fase Lagree!  Ribbon Cutting at 10 am.\n\nWe’re inviting the community in to tour the studio\, meet our instructors\, and get a feel for what Lagree is all about. Whether you’re brand new or already obsessed with the method\, this is your chance to explore the space\, ask questions\, and get excited about this powerful new addition to the neighborhood.\n\nSip on complimentary drinks from the DIRT Coffee Cart\, connect with fellow fitness lovers\, and learn how you can lock in our exclusive Founding Membership Rate.\n\nCome see the studio\, feel the energy\, and be part of something strong from the very beginning. We can’t wait to welcome you! \nRegistrations are closed for this event
URL:https://littletonbusinesschamber.org/event/ribbon-cutting-fase-lagree-grand-opening/
LOCATION:Fase Lagree\, 129 W. County Line Rd.\, Littleton\, CO\, 80120\, United States
CATEGORIES:Chamber Event Calendar
ATTACH;FMTTYPE=image/jpeg:https://littletonbusinesschamber.org/wp-content/uploads/download-9.jpg
END:VEVENT
BEGIN:VEVENT
DTSTART;TZID=America/Denver:20260310T160000
DTEND;TZID=America/Denver:20260310T180000
DTSTAMP:20260424T102903
CREATED:20260220T232006Z
LAST-MODIFIED:20260310T203827Z
UID:10000428-1773158400-1773165600@littletonbusinesschamber.org
SUMMARY:Women In Leadership March Event - Speaker Littleton Deputy Manager Kathleen Osher - to be rescheduled.
DESCRIPTION:  \nOur speaker for March is Kathleen Osher\, the first woman Deputy City Manager for the City of Littleton. \nKathleen Osher is a nationally recognized leader in city building\, transportation\, and land use with more than 30 years of experience across the public\, private\, and nonprofit sectors. She currently serves as Deputy City Manager for the City of Littleton and was named Littleton’s Leader of the Year in 2019. A former Executive Director of Transit Alliance and recipient of the DRCOG Distinguished Service Award\, Kathleen is known for her collaborative\, people-first approach to advancing inclusive and strategic community solutions. \nShe will be sharing with us what inspires her\, what she does with the City of Littleton\, and how she balances her family and work life. \n 
URL:https://littletonbusinesschamber.org/event/women-in-leadership-march-event-speaker-littleton-deputy-manager-kathleen-osher/
LOCATION:Kiln Workspaces Littleton\, 2650 W. Belleview Ave\, Littleton\, 80123\, United States
CATEGORIES:Chamber Event Calendar
ATTACH;FMTTYPE=image/jpeg:https://littletonbusinesschamber.org/wp-content/uploads/will-kathleen.jpg
END:VEVENT
BEGIN:VEVENT
DTSTART;TZID=America/Denver:20260311T160000
DTEND;TZID=America/Denver:20260311T180000
DTSTAMP:20260424T102903
CREATED:20251029T200412Z
LAST-MODIFIED:20260303T021221Z
UID:10000383-1773244800-1773252000@littletonbusinesschamber.org
SUMMARY:March Business After Hours at Littleton Brewing Company
DESCRIPTION:  \n \nJoin us for appetizers (the chamber will buy the first round) \nand help Celebrate their 1st Anniversary. \nRegistrations are closed for this event
URL:https://littletonbusinesschamber.org/event/march-business-after-hours-at-littleton-brewing-company/
LOCATION:Littleton Brewing Company\, 1201 W. Littleton Blvd.\, Littleton\, CO\, 80120\, United States
CATEGORIES:Chamber Event Calendar
ATTACH;FMTTYPE=image/jpeg:https://littletonbusinesschamber.org/wp-content/uploads/business-after-hours.jpg
END:VEVENT
BEGIN:VEVENT
DTSTART;TZID=America/Denver:20260319T100000
DTEND;TZID=America/Denver:20260319T110000
DTSTAMP:20260424T102903
CREATED:20260303T004732Z
LAST-MODIFIED:20260310T222650Z
UID:10000435-1773914400-1773918000@littletonbusinesschamber.org
SUMMARY:Community Engagement Committee Meeting
DESCRIPTION:Join us for our monthly meeting at South Fellowship Connection Room (next to Renewed Treasures)\, our hosts for this month’s meeting. Board Chair\, Michelle Hines\, will share information about Renewed Treasures and everyone attending will get a gift certificate to shop and hopefully find a fun treasure. \nRegistrations are closed for this event
URL:https://littletonbusinesschamber.org/event/community-engagement-committee-meeting/
LOCATION:South Fellowship Church Connection Room (next to Renewed Treasures)\, 6512 S Broadway\, Littleton\, 80121\, United States
CATEGORIES:Chamber Event Calendar
ATTACH;FMTTYPE=image/jpeg:https://littletonbusinesschamber.org/wp-content/uploads/Community-Engagement-Committee-Logo-1-1.jpg
END:VEVENT
BEGIN:VEVENT
DTSTART;TZID=America/Denver:20260319T113000
DTEND;TZID=America/Denver:20260319T123000
DTSTAMP:20260424T102903
CREATED:20260220T225153Z
LAST-MODIFIED:20260302T190715Z
UID:10000427-1773919800-1773923400@littletonbusinesschamber.org
SUMMARY:Ribbon Cutting - Grand Opening Fast as Pho
DESCRIPTION:Join us as we help Tan celebrate the opening of his Restaurant- Fast as Pho.  We will cutting the ribbon at Noon! \nTan always joke with his friends: I went to the Colorado School of Mines in Golden for engineering\, where I earned my B.S. and M.S. degrees. But now\, I’m not back to pursue a Ph.D. Instead\, I’m here to earn my PHO! \n\n\n\n\n\n\n\n\nGrowing up\, my passion was always Pho\, from the rich\, fragrant aroma of broth simmered overnight\, to the pure joy of sharing a warm bowl with family.  That deep-seated love inspired me to create a place where everyone can enjoy Pho that is the perfect blend of Ngon (Delicious)\, Bổ (Nutritious)\, and Rẻ (Reasonably priced). \n\nRegistrations are closed for this event
URL:https://littletonbusinesschamber.org/event/ribbon-cutting-grand-opening-fast-as-pho/
LOCATION:Fast as Pho\, 10161 W Bowles Ave\, Littleton\, CO\, 80127\, United States
CATEGORIES:Chamber Event Calendar
ATTACH;FMTTYPE=image/jpeg:https://littletonbusinesschamber.org/wp-content/uploads/download-9.jpg
END:VEVENT
BEGIN:VEVENT
DTSTART;TZID=America/Denver:20260319T170000
DTEND;TZID=America/Denver:20260319T190000
DTSTAMP:20260424T102903
CREATED:20260220T233252Z
LAST-MODIFIED:20260302T200739Z
UID:10000431-1773939600-1773946800@littletonbusinesschamber.org
SUMMARY:Littleton Young Professionals Networking Event at Outlanes Pinball Lounge
DESCRIPTION:Join us at downtown Littleton’s newest Pinball Lounge.  The chamber will buy the first round – bring your quarters to play the 25+ machines. They host leagues\, tournaments and private events. \nRegistrations are closed for this event
URL:https://littletonbusinesschamber.org/event/littleton-young-professionals-networking-event/
LOCATION:Outlanes Pinball Lounge\, 2555 W. Alamo Ave\, Littleton\, CO\, 80120\, United States
CATEGORIES:Chamber Event Calendar
ATTACH;FMTTYPE=image/png:https://littletonbusinesschamber.org/wp-content/uploads/lyp-logo.png
END:VEVENT
BEGIN:VEVENT
DTSTART;TZID=UTC:20260323T080000
DTEND;TZID=UTC:20260323T170000
DTSTAMP:20260424T102903
CREATED:20260323T200640Z
LAST-MODIFIED:20260323T200641Z
UID:10000446-1774252800-1774285200@littletonbusinesschamber.org
SUMMARY:Ribbon Cutting Support Inc.
DESCRIPTION:Welcome Support Inc. to Littleton (Woodlawn Shopping Center).  Every day is a day to thrive. That’s the mission of Support Inc.: to serve intellectually and developmentally disabled clients in innovative\, personalized and cost-effective ways. \nWith services designed to support the whole individual\, we strive to redefine the experience of community living. Our experienced team of on-staff professionals includes: \nJoin us for a ribbon cutting at 1pm\, food\, prizes – ribbon cutting by the West Metro Chamber.
URL:https://littletonbusinesschamber.org/event/ribbon-cutting-support-inc/
LOCATION:Support Inc.\, 1500 W. Littleton Blvd #207\, Littleton\, CO\, 80120\, United States
CATEGORIES:Chamber Event Calendar
END:VEVENT
BEGIN:VEVENT
DTSTART;TZID=America/Denver:20260325T090000
DTEND;TZID=America/Denver:20260325T103000
DTSTAMP:20260424T102903
CREATED:20260220T232925Z
LAST-MODIFIED:20260220T233016Z
UID:10000430-1774429200-1774434600@littletonbusinesschamber.org
SUMMARY:Latino Business Committee
DESCRIPTION:Registrations are closed for this event
URL:https://littletonbusinesschamber.org/event/latino-business-committee-5/
LOCATION:Kiln Workspaces Littleton\, 2650 W. Belleview Ave\, Littleton\, 80123\, United States
CATEGORIES:Chamber Event Calendar
ATTACH;FMTTYPE=image/png:https://littletonbusinesschamber.org/wp-content/uploads/Latino-Business-committee-logo-300x139-1.png
END:VEVENT
BEGIN:VEVENT
DTSTART;TZID=America/Denver:20260330T143000
DTEND;TZID=America/Denver:20260330T160000
DTSTAMP:20260424T102903
CREATED:20260220T232555Z
LAST-MODIFIED:20260220T232701Z
UID:10000429-1774881000-1774886400@littletonbusinesschamber.org
SUMMARY:"Littleton Eatz" Restaurant/Hospitality Committee
DESCRIPTION:Registrations are closed for this event
URL:https://littletonbusinesschamber.org/event/littleton-eatz-restaurant-hospitality-committee-4/
CATEGORIES:Chamber Event Calendar
ATTACH;FMTTYPE=image/png:https://littletonbusinesschamber.org/wp-content/uploads/restaurant-hospitality-logo-300x251-1.png
END:VEVENT
BEGIN:VEVENT
DTSTART;TZID=America/Denver:20260331T090000
DTEND;TZID=America/Denver:20260331T103000
DTSTAMP:20260424T102903
CREATED:20260122T211420Z
LAST-MODIFIED:20260302T201311Z
UID:10000414-1774947600-1774953000@littletonbusinesschamber.org
SUMMARY:All Leads Group Quarterly Meeting hosted by Leads Group #1
DESCRIPTION:  \nJoin for a continental breakfast\, networking and connection. Hosted by Leads Group #1\, catered by Silverspoons Catering. \nRegistrations are closed for this event
URL:https://littletonbusinesschamber.org/event/all-leads-group-quarterly-meeting-hosted-by-leads-group-1/
LOCATION:Adventures in Dance Woodlawn Shopping Center\, 1500 W. Littleton Blvd\, Littleton\, CO\, 80120\, United States
CATEGORIES:Chamber Member Events
ATTACH;FMTTYPE=image/jpeg:https://littletonbusinesschamber.org/wp-content/uploads/leads-group-logo.jpg
END:VEVENT
END:VCALENDAR