BEGIN:VCALENDAR
VERSION:2.0
PRODID:-//Littleton Business Chamber - ECPv6.15.20//NONSGML v1.0//EN
CALSCALE:GREGORIAN
METHOD:PUBLISH
X-WR-CALNAME:Littleton Business Chamber
X-ORIGINAL-URL:https://littletonbusinesschamber.org
X-WR-CALDESC:Events for Littleton Business Chamber
REFRESH-INTERVAL;VALUE=DURATION:PT1H
X-Robots-Tag:noindex
X-PUBLISHED-TTL:PT1H
BEGIN:VTIMEZONE
TZID:UTC
BEGIN:STANDARD
TZOFFSETFROM:+0000
TZOFFSETTO:+0000
TZNAME:UTC
DTSTART:20240101T000000
END:STANDARD
END:VTIMEZONE
BEGIN:VTIMEZONE
TZID:America/Denver
BEGIN:DAYLIGHT
TZOFFSETFROM:-0700
TZOFFSETTO:-0600
TZNAME:MDT
DTSTART:20240310T090000
END:DAYLIGHT
BEGIN:STANDARD
TZOFFSETFROM:-0600
TZOFFSETTO:-0700
TZNAME:MST
DTSTART:20241103T080000
END:STANDARD
BEGIN:DAYLIGHT
TZOFFSETFROM:-0700
TZOFFSETTO:-0600
TZNAME:MDT
DTSTART:20250309T090000
END:DAYLIGHT
BEGIN:STANDARD
TZOFFSETFROM:-0600
TZOFFSETTO:-0700
TZNAME:MST
DTSTART:20251102T080000
END:STANDARD
BEGIN:DAYLIGHT
TZOFFSETFROM:-0700
TZOFFSETTO:-0600
TZNAME:MDT
DTSTART:20260308T090000
END:DAYLIGHT
BEGIN:STANDARD
TZOFFSETFROM:-0600
TZOFFSETTO:-0700
TZNAME:MST
DTSTART:20261101T080000
END:STANDARD
END:VTIMEZONE
BEGIN:VEVENT
DTSTART;TZID=UTC:20250722T170000
DTEND;TZID=UTC:20250722T180000
DTSTAMP:20260423T061833
CREATED:20250603T152426Z
LAST-MODIFIED:20250718T210534Z
UID:10000320-1753203600-1753207200@littletonbusinesschamber.org
SUMMARY:WILL Book Club - "The Gap and the Gain"
DESCRIPTION:WILL Book Club Meeting is postponed. \nJoin us as we discuss this quarter’s book selection.  Snacks will be provided. \nWe will choose the next quarter book at this meeting. \n 
URL:https://littletonbusinesschamber.org/event/will-book-club-the-gap-and-the-gain/
LOCATION:kiln
CATEGORIES:Chamber Event Calendar
END:VEVENT
BEGIN:VEVENT
DTSTART;TZID=America/Denver:20250722T090000
DTEND;TZID=America/Denver:20250722T110000
DTSTAMP:20260423T061833
CREATED:20250702T214644Z
LAST-MODIFIED:20250702T215142Z
UID:10000334-1753174800-1753182000@littletonbusinesschamber.org
SUMMARY:C-Level VIP Tour South Platte Renew Wastewater Treatment Plant (Executive/Premier/Corp Level Members)
DESCRIPTION:
URL:https://littletonbusinesschamber.org/event/c-level-vip-tour-south-platte-renew-wastewater-treatment-plant/
LOCATION:South Platte Renew Wastewater Treatment Plant\, 2900 S Platte River Dr\, Englewood\, CO\, 80110
ATTACH;FMTTYPE=image/png:https://littletonbusinesschamber.org/wp-content/uploads/C-Level-Event-Logo-with-Leadership-Icon.png
END:VEVENT
BEGIN:VEVENT
DTSTART;TZID=America/Denver:20250722T090000
DTEND;TZID=America/Denver:20250722T110000
DTSTAMP:20260423T061833
CREATED:20250603T180315Z
LAST-MODIFIED:20250702T215228Z
UID:10000321-1753174800-1753182000@littletonbusinesschamber.org
SUMMARY:C-Level Event- Invite Only VIP Tour South Platte Renew Wastewater Treatment Plant (Executive/Premier/Corp Level Members)
DESCRIPTION:
URL:https://littletonbusinesschamber.org/event/c-level-event-invite-only-vip-tour-south-platte-renew-wastewater-treatment-plant/
LOCATION:South Platte Renew\, 2900 S Platte River Dr\, Englewood\, CO\, 80110\, United States
CATEGORIES:Chamber Event Calendar
END:VEVENT
BEGIN:VEVENT
DTSTART;TZID=America/Denver:20250718T160000
DTEND;TZID=America/Denver:20250718T180000
DTSTAMP:20260423T061833
CREATED:20250626T173826Z
LAST-MODIFIED:20250630T193704Z
UID:10000323-1752854400-1752861600@littletonbusinesschamber.org
SUMMARY:20th Anniversary Celebration & Ribbon Cutting Olde Towne Tavern
DESCRIPTION:Join us as we celebrate Mark and Chris’s 20th Anniversary as owners of Olde Town Tavern in downtown Littleton. \nThe Olde Town Tavern is Littleton’s original tavern.   They have great food including wings\, burgers\, and apps as well as 12 beers\, bar games and sports tv.  They will have 20 days of specials and events in July. \nRegistrations are closed for this event
URL:https://littletonbusinesschamber.org/event/20th-anniversary-celebration-ribbon-cutting-old-towne-tavern/
LOCATION:Olde Town Tavern\, 2410 W. Main St.\, Littleton\, 80120\, United States
ATTACH;FMTTYPE=image/jpeg:https://littletonbusinesschamber.org/wp-content/uploads/ribbon-300x122-1-e1765391774900.jpg
END:VEVENT
BEGIN:VEVENT
DTSTART;TZID=America/Denver:20250718T113000
DTEND;TZID=America/Denver:20250718T113000
DTSTAMP:20260423T061833
CREATED:20250630T195134Z
LAST-MODIFIED:20250702T182459Z
UID:10000326-1752838200-1752838200@littletonbusinesschamber.org
SUMMARY:Community Engagement Committee Meeting (formerly Philanthropic Committee
DESCRIPTION:Join us for our monthly meeting\, hosted by Nancy Falk\, Executive Director of Nourish Meals on Wheels. \nRegistrations are closed for this event
URL:https://littletonbusinesschamber.org/event/community-engagement-committee-meeting-formerly-philanthropic-committee/
LOCATION:Nourish Meals on Wheels\, 92 E Arapahoe Rd\, Littleton\, CO\, 80122\, United States
ATTACH;FMTTYPE=image/png:https://littletonbusinesschamber.org/wp-content/uploads/Community-Engagement-Committee-Logo-.png
END:VEVENT
BEGIN:VEVENT
DTSTART;TZID=America/Denver:20250717T160000
DTEND;TZID=America/Denver:20250717T180000
DTSTAMP:20260423T061833
CREATED:20250501T204246Z
LAST-MODIFIED:20250515T191653Z
UID:10000310-1752768000-1752775200@littletonbusinesschamber.org
SUMMARY:Women in Leadership - Cooking with Chef Enas
DESCRIPTION:Do you love Middle Eastern Foods?  Do you love salads in the summer?\nJoin us as Chef Enas will teach us how to make two specialty salads using all fresh ingredients found at the Fresh Market Community Kitchen.  (Dairy and gluten free)\nChef Enas is delightful to visit with\,  and she will share her culture and the types of food from the Middle East\, Asia\, and China.\nRegistrations are closed for this event
URL:https://littletonbusinesschamber.org/event/women-in-leadership-cooking-with-chef-enas/
LOCATION:Fresh Market Community Kitchen\, 1500 W. Littleton Blvd.\, Littleton\, Colorado\, 80120
CATEGORIES:Chamber Event Calendar
ATTACH;FMTTYPE=image/png:https://littletonbusinesschamber.org/wp-content/uploads/WILL-logo.png
END:VEVENT
BEGIN:VEVENT
DTSTART;TZID=America/Denver:20250711T180000
DTEND;TZID=America/Denver:20250711T200000
DTSTAMP:20260423T061833
CREATED:20250702T201953Z
LAST-MODIFIED:20250702T202146Z
UID:10000332-1752256800-1752264000@littletonbusinesschamber.org
SUMMARY:Thrivent presents An Evening with the Holderness Family
DESCRIPTION:
URL:https://littletonbusinesschamber.org/event/thrivent-presents-an-evening-with-the-holderness-family/
CATEGORIES:Chamber Event Calendar
END:VEVENT
BEGIN:VEVENT
DTSTART;TZID=America/Denver:20250711T090000
DTEND;TZID=America/Denver:20250711T100000
DTSTAMP:20260423T061833
CREATED:20250626T213858Z
LAST-MODIFIED:20250626T214913Z
UID:10000325-1752224400-1752228000@littletonbusinesschamber.org
SUMMARY:New Member Orientation
DESCRIPTION:Meet our chamber ambassadors and learn how to make the chamber work for you and your business. \nRegistrations are closed for this event
URL:https://littletonbusinesschamber.org/event/new-member-orientation/
LOCATION:Kiln Workspaces Littleton\, 2650 W. Belleview Ave\, Littleton\, 80123\, United States
CATEGORIES:Chamber Event Calendar
ATTACH;FMTTYPE=image/jpeg:https://littletonbusinesschamber.org/wp-content/uploads/lbc-logo.jpg
END:VEVENT
BEGIN:VEVENT
DTSTART;TZID=America/Denver:20250709T160000
DTEND;TZID=America/Denver:20250709T180000
DTSTAMP:20260423T061833
CREATED:20250401T210338Z
LAST-MODIFIED:20250630T192759Z
UID:10000291-1752076800-1752084000@littletonbusinesschamber.org
SUMMARY:Redstone Bank 5th Anniversary Celebration and Business After Hours
DESCRIPTION:Redstone Bank 5th Anniversary and Chamber Business After Hours. \n  \nHelp us celebrate their 5th Anniversary at their Littleton Branch – 4-6  pm.  Great food from 3 of our member restaurants\, drinks\, and giveaways. \nRegistrations are closed for this event
URL:https://littletonbusinesschamber.org/event/redstone-bank-5th-anniversary-celebration-and-business-after-hours/
LOCATION:Redstone Bank Littleton\, 5350 S. Santa Fe Dr\,. Unit G\, Littleton\, CO\, 80120
CATEGORIES:Chamber Event Calendar
ATTACH;FMTTYPE=image/jpeg:https://littletonbusinesschamber.org/wp-content/uploads/512015332_1401769120991487_1834477524289997384_n.jpg
END:VEVENT
BEGIN:VEVENT
DTSTART;TZID=America/Denver:20250704T080000
DTEND;TZID=America/Denver:20250704T170000
DTSTAMP:20260423T061833
CREATED:20250626T213652Z
LAST-MODIFIED:20250626T215102Z
UID:10000324-1751616000-1751648400@littletonbusinesschamber.org
SUMMARY:Chamber Closed - Happy 4th of July!
DESCRIPTION:
URL:https://littletonbusinesschamber.org/event/chamber-closed-happy-4th-of-july/
CATEGORIES:Chamber Event Calendar
END:VEVENT
BEGIN:VEVENT
DTSTART;TZID=America/Denver:20250630T094500
DTEND;TZID=America/Denver:20250630T103000
DTSTAMP:20260423T061833
CREATED:20250625T185512Z
LAST-MODIFIED:20250626T172915Z
UID:10000322-1751276700-1751279400@littletonbusinesschamber.org
SUMMARY:Ribbon Cutting Snarfs Sandwiches downtown Littleton
DESCRIPTION:Join us as we celebrate the opening of Snarf’s Sandwiches newest location in downtown Littleton. \nWe will be cutting the ribbon as they open the doors for the first time to the public at 10am\, Monday June 30th. \nPick up lunch or take it back for your team. \nRegistrations are closed for this event  \n 
URL:https://littletonbusinesschamber.org/event/ribbon-cutting-snarfs-sandwiches-downtown-littleton/
LOCATION:Snarf’s Sandwiches downtown Littleton\, 2700 W. Bowles Ave\, Littleton\, CO\, 80120\, United States
CATEGORIES:Chamber Event Calendar
ATTACH;FMTTYPE=image/jpeg:https://littletonbusinesschamber.org/wp-content/uploads/ribbon-300x122-1-e1765391774900.jpg
END:VEVENT
BEGIN:VEVENT
DTSTART;TZID=America/Denver:20250614T173000
DTEND;TZID=America/Denver:20250614T223000
DTSTAMP:20260423T061833
CREATED:20250530T201435Z
LAST-MODIFIED:20250530T202110Z
UID:10000316-1749922200-1749940200@littletonbusinesschamber.org
SUMMARY:Downtown Littleton Block Party
DESCRIPTION:The Block Party is Back!\n\n\n\n\nThe FREE Night of Magic\, Music and Mayhem Returns June 14\n\n\n\n\nThe Downtown Littleton Block Party reclaims the streets with dazzling performances\, live music\, fiery spectacles\, and a fireworks finale. Join us for an unforgettable night under the stars! \n\n\nJune 14th\, 5:30pm to 10:30pm\n\n\n\n\n\n\n\n\nThis isn’t your average street fair. We’ve curated a lineup of performers who defy gravity\, logic\, and the ordinary. Wander between four stages and discover: \n\n\nLive Music: Rock\, country\, and indie acts to keep you dancing. \n\n\nStreet Spectacles: Contortionists bending reality\, magicians with tricks up their sleeves\, and performers lighting up the night. \n\n\nFireworks Finale: A sky-high explosion of color at 10:00 PM sharp! \n\n\nShare the moment with us at #LittletonBlockParty \n\n\n\n\n\n\n\n\n\n\n\n\n\n\n\n\n\n\n\nProduced by Littleton Downtown Development Authority and the Littleton Merchants Association \nFunded by a City of Littleton Arts & Culture Grant
URL:https://littletonbusinesschamber.org/event/downtown-littleton-block-party/
LOCATION:Downtown Littleton Main Street
CATEGORIES:Chamber Event Calendar
END:VEVENT
BEGIN:VEVENT
DTSTART;TZID=America/Denver:20250612T160000
DTEND;TZID=America/Denver:20250612T180000
DTSTAMP:20260423T061833
CREATED:20250411T194551Z
LAST-MODIFIED:20250521T203918Z
UID:10000294-1749744000-1749751200@littletonbusinesschamber.org
SUMMARY:Ribbon Cutting Courtyard by Mariott Denver Southwest/Littleton
DESCRIPTION:Join us from 4-6 and celebrate the Remodel and Re-Grand Opening of the Marriott Denver Southwest/Littleton. We will be cutting the ribbon at 5 pm. \nLight appetizers and a champagne toast provided. \nRegistrations are closed for this event
URL:https://littletonbusinesschamber.org/event/ribbon-cutting-courtyard-by-mariott-denver-southwest-littleton/
LOCATION:Courtyard by Mariott Denver Southwest/Littleton\, 3056 W County Line Rd\, Littleton\, Littleton\, CO\, 80129\, United States
CATEGORIES:Chamber Event Calendar
ATTACH;FMTTYPE=image/jpeg:https://littletonbusinesschamber.org/wp-content/uploads/ribbon.jpg
END:VEVENT
BEGIN:VEVENT
DTSTART;TZID=America/Denver:20250611T160000
DTEND;TZID=America/Denver:20250611T180000
DTSTAMP:20260423T061833
CREATED:20250414T231155Z
LAST-MODIFIED:20250501T231306Z
UID:10000296-1749657600-1749664800@littletonbusinesschamber.org
SUMMARY:June Business After Hours at Black Haus Tavern on Main Littleton
DESCRIPTION:Join us at Black Haus Tavern on Main Littleton. First round of Wine\, well\, beer and soft drinks on the chamber – apps provided by Black Haus. \nRegistrations are closed for this event
URL:https://littletonbusinesschamber.org/event/june-business-after-hours-at-black-haus-tavern-on-main-littleton/
LOCATION:Black+Haus Tavern\, 2439 W. Main St.\, Littleton\, 80120\, United States
CATEGORIES:Chamber Event Calendar
ATTACH;FMTTYPE=image/png:https://littletonbusinesschamber.org/wp-content/uploads/bah-logo-1-300x140-1.png
END:VEVENT
BEGIN:VEVENT
DTSTART;TZID=America/Denver:20250607T150000
DTEND;TZID=America/Denver:20250607T183000
DTSTAMP:20260423T061833
CREATED:20250521T221700Z
LAST-MODIFIED:20250521T221819Z
UID:10000315-1749308400-1749321000@littletonbusinesschamber.org
SUMMARY:Member Event: Scenthound Open House
DESCRIPTION:  \n  \nlink to event  (20+) Scenthound Littleton Open House | Facebook
URL:https://littletonbusinesschamber.org/event/member-event-scenthound-open-house/
LOCATION:Scenthound\, 7735 W Long Dr\, Unit 16\, Littleton\, 80120\, United States
CATEGORIES:Chamber Event Calendar
END:VEVENT
BEGIN:VEVENT
DTSTART;TZID=America/Denver:20250606T160000
DTEND;TZID=America/Denver:20250606T180000
DTSTAMP:20260423T061833
CREATED:20250519T185401Z
LAST-MODIFIED:20250603T210015Z
UID:10000313-1749225600-1749232800@littletonbusinesschamber.org
SUMMARY:Ribbon Cutting & Grand Opening Bistro 36 Drinkery & Eatery
DESCRIPTION:Bistro 36 Dinner Menu\nJoin us we welcome Bistro 36 Drinkery and Eatery to Littleton and now a neighbor of the Chamber. (previously known as the Pint Room)\nPlease help us celebrate Michael and his new business with a Ribbon Cutting at 5pm.\nRegistrations are closed for this event
URL:https://littletonbusinesschamber.org/event/ribbon-cutting-grand-opening-bistro-36-bistro-36-drinkery-eatery/
LOCATION:Bistro 36\, 2620 W. Belleview Ave\, Littleton\, CO\, 80123\, United States
CATEGORIES:Chamber Event Calendar
ATTACH;FMTTYPE=image/jpeg:https://littletonbusinesschamber.org/wp-content/uploads/ribbon.jpg
END:VEVENT
BEGIN:VEVENT
DTSTART;TZID=America/Denver:20250606T090000
DTEND;TZID=America/Denver:20250606T100000
DTSTAMP:20260423T061833
CREATED:20250430T152708Z
LAST-MODIFIED:20250430T152846Z
UID:10000307-1749200400-1749204000@littletonbusinesschamber.org
SUMMARY:New Member Chamber Orientation
DESCRIPTION:Join the Littleton Business Chamber Ambassadors and learn how to make the Littleton Business Chamber work for you! \nRegistrations are closed for this event
URL:https://littletonbusinesschamber.org/event/new-member-chamber-orientation/
LOCATION:Kiln Workspaces Littleton\, 2650 W. Belleview Ave\, Littleton\, 80123\, United States
CATEGORIES:Chamber Event Calendar
ATTACH;FMTTYPE=image/png:https://littletonbusinesschamber.org/wp-content/uploads/wheat-logo.png
END:VEVENT
BEGIN:VEVENT
DTSTART;TZID=America/Denver:20250529T133000
DTEND;TZID=America/Denver:20250529T143000
DTSTAMP:20260423T061833
CREATED:20250520T161144Z
LAST-MODIFIED:20250626T214141Z
UID:10000314-1748525400-1748529000@littletonbusinesschamber.org
SUMMARY:Tour Telemundo Studio (NBC Universal) presented by Latino Business Committee
DESCRIPTION:Educated\, wealthy Latinos are the fastest growing demographic in Colorado.\nMarketing with Telemundo may be a way for you to reach this target audience.  Join us for a tour\, given by Nicole Burri\, VP of Sales\, of their studios in Centennial (near Dry Creek and Colorado Blvd) for a private tour and learn more about their amazing team and opportunities for your business.\nRegistrations are closed for this event
URL:https://littletonbusinesschamber.org/event/tour-telemundo-studio-nbc-universal-presented-by-latino-business-committee/
LOCATION:Telemundo Studio\, 4100 E. Dry Creek Rd\, Centennial\, CO\, 80112\, United States
CATEGORIES:Chamber Event Calendar
END:VEVENT
BEGIN:VEVENT
DTSTART;TZID=America/Denver:20250528T130000
DTEND;TZID=America/Denver:20250528T140000
DTSTAMP:20260423T061833
CREATED:20250415T154910Z
LAST-MODIFIED:20250512T161106Z
UID:10000297-1748437200-1748440800@littletonbusinesschamber.org
SUMMARY:Ribbon Cutting PNC Bank Aspen Grove
DESCRIPTION:Join us during your lunch break and celebrate the Grand Opening of PNC Bank in Aspen Grove.  Food\, Drinks\, Give Aways. \nRibbon cutting at 1:30 pm \nRegistrations are closed for this event
URL:https://littletonbusinesschamber.org/event/ribbon-cutting-pnc-bank-aspen-grove/
LOCATION:PNC Bank Aspen Grove\, 7301 S Santa Fe Dr\, Ste 180\, Littleton\, CO\, 80120\, United States
CATEGORIES:Chamber Event Calendar
ATTACH;FMTTYPE=image/jpeg:https://littletonbusinesschamber.org/wp-content/uploads/ribbon-300x122-1-e1765391774900.jpg
END:VEVENT
BEGIN:VEVENT
DTSTART;TZID=America/Denver:20250528T090000
DTEND;TZID=America/Denver:20250528T103000
DTSTAMP:20260423T061833
CREATED:20250515T190209Z
LAST-MODIFIED:20250527T170105Z
UID:10000312-1748422800-1748428200@littletonbusinesschamber.org
SUMMARY:Latino Business Committee
DESCRIPTION:CANCELLED!\nWe invite Latino and Hispanic business owners\, managers\, and leaders of organizations who focus directly on supporting the Latino community to join us. After 3 meetings you will need to join the Littleton Business Chamber to participate.
URL:https://littletonbusinesschamber.org/event/latino-business-committee-2/
LOCATION:Kiln Workspaces Littleton\, 2650 W. Belleview Ave\, Littleton\, 80123\, United States
CATEGORIES:Chamber Event Calendar
ATTACH;FMTTYPE=image/png:https://littletonbusinesschamber.org/wp-content/uploads/Untitled-design-36.png
END:VEVENT
BEGIN:VEVENT
DTSTART;TZID=America/Denver:20250522T170000
DTEND;TZID=America/Denver:20250522T190000
DTSTAMP:20260423T061833
CREATED:20241127T003241Z
LAST-MODIFIED:20250512T161140Z
UID:10000263-1747933200-1747940400@littletonbusinesschamber.org
SUMMARY:Littleton Young Professionals Meeting
DESCRIPTION:  \nJoin us for Networking Bingo. Guest Speaker Zoemi Romero\, Cencallit Taqueria & Colonos Pizza.  LBC   Outstanding Community Leader 2025. \nRegistrations are closed for this event
URL:https://littletonbusinesschamber.org/event/littleton-young-professionals-meeting/
LOCATION:Denver Beer Co Littleton\, 2409 Main Street\, Littleton\, CO\, 80120\, United States
CATEGORIES:Chamber Event Calendar
ATTACH;FMTTYPE=image/png:https://littletonbusinesschamber.org/wp-content/uploads/lyp-logo-1.png
END:VEVENT
BEGIN:VEVENT
DTSTART;TZID=America/Denver:20250521T170000
DTEND;TZID=America/Denver:20250521T190000
DTSTAMP:20260423T061833
CREATED:20250224T192427Z
LAST-MODIFIED:20250512T160813Z
UID:10000272-1747846800-1747854000@littletonbusinesschamber.org
SUMMARY:LBC/Englewood Chamber of Commerce Networking Event
DESCRIPTION:Join us for our 2nd Joint Networking Event with the Englewood Business Chamber hosted by Kiln Workspaces. \nWe are thrilled to be partnering with Fresh Market Community Kitchen. Chef Enas will be preparing several middle eastern favorites including Chicken Tikka Masala\, Hummus\, Baba Ghanoush\, and Falafel. \nThe first 75 guests will receive a $10 Gift Card to this amazing Natural/International Foods Market located near downtown Littleton in the Woodlawn Shopping Center. \nWe will also have Sauvecito tequila setting up a sampling station for you! \nRegistrations are closed for this event
URL:https://littletonbusinesschamber.org/event/lbc-englewood-chamber-of-commerce-networking-event/
LOCATION:Kiln Workspaces Littleton\, 2650 W. Belleview Ave\, Littleton\, 80123\, United States
CATEGORIES:Chamber Event Calendar
ATTACH;FMTTYPE=image/png:https://littletonbusinesschamber.org/wp-content/uploads/littleton-englewood-bah-logo.png
END:VEVENT
BEGIN:VEVENT
DTSTART;TZID=America/Denver:20250520T160000
DTEND;TZID=America/Denver:20250520T170000
DTSTAMP:20260423T061833
CREATED:20250324T193903Z
LAST-MODIFIED:20250515T194136Z
UID:10000286-1747756800-1747760400@littletonbusinesschamber.org
SUMMARY:Women in Leadership Littleton May Mental Health Month at   Doctor's Care
DESCRIPTION:Join us for Women in Leadership Littleton as we celebrate May Mental Health Month at\nDoctor’s Care\nMay 20th 4-5 pm\nPlease join us as we hear from Bebe Klineman CEO\,\nDoctors Care’s mission is to provide high-quality health care and services that promote overall health and wellness for those in need. Our integrated care system allows us to address the whole-person and go beyond a typical doctor’s visit to address mental health needs\, health insurance options\, and social determinants of health.\nWe are participating in Doctor’s Care Virtual Book Drive to build an inventory of books from Elementary age through Young Adult.\nAmazon Gift List\n\nRegistrations are closed for this event
URL:https://littletonbusinesschamber.org/event/women-in-leadership-littleton-may-mental-health-month-at-doctors-care/
LOCATION:Doctors  Care\, 609 W. Littleton Blvd Suite 100\, Littleton\, CO\, 80120\, United States
CATEGORIES:Chamber Event Calendar,Chamber Member Events
ATTACH;FMTTYPE=image/png:https://littletonbusinesschamber.org/wp-content/uploads/WILL-logo-300x70-1.png
END:VEVENT
BEGIN:VEVENT
DTSTART;TZID=America/Denver:20250520T113000
DTEND;TZID=America/Denver:20250520T130000
DTSTAMP:20260423T061833
CREATED:20250417T193058Z
LAST-MODIFIED:20250422T222049Z
UID:10000300-1747740600-1747746000@littletonbusinesschamber.org
SUMMARY:Philanthropic Committee Meeting
DESCRIPTION:  \nThank you to our host Pastor Jonathan Murray for hosting our committee meeting and providing lunch for everyone from Romanos. \n  \n  \nRegistrations are closed for this event
URL:https://littletonbusinesschamber.org/event/philanthropic-committee-meeting/
LOCATION:First Presbyterian Church of Littleton\, 1609 W. Littleton Blvd.\, Littleton\, CO\, 80120\, United States
CATEGORIES:Chamber Event Calendar
ATTACH;FMTTYPE=image/webp:https://littletonbusinesschamber.org/wp-content/uploads/7bee8ff6-43c3-41c6-a982-18c9615765e1-N2kWyk.tmp_.webp
END:VEVENT
BEGIN:VEVENT
DTSTART;TZID=America/Denver:20250519T160000
DTEND;TZID=America/Denver:20250519T180000
DTSTAMP:20260423T061833
CREATED:20250424T160202Z
LAST-MODIFIED:20250512T160855Z
UID:10000306-1747670400-1747677600@littletonbusinesschamber.org
SUMMARY:Grand Opening/Ribbon Cutting Honnibrook Craft Meadery
DESCRIPTION:Join us for the Grand Opening and Ribbon Cutting at  Honnibrook Craft Meadery\, known for its innovative mead offerings.  We will be cutting the Ribbon at 5pm \nThere will be free mead samples\, non-alcoholic beverages\, Hors d’oeuvres and crowler giveaways! \nCo-founders Michael Fagan and DJ Kurtz launched Honnibrook in Castle Rock five years ago — when Colorado had only about ten meaderies. Since then\, the industry has grown significantly\, with 23 in the state. \nHonnibrook’s mead\, which is lighter than wine but heavier than craft beer\, is made from local honey sourced from Lockhart Honey Farms in Colorado Springs. The company produces nearly 8\,000 gallons per year and distributes to 22 craft tasting rooms across the state. Its products are also sold in select liquor stores and online. \nThe Littleton taproom will occupy a quaint\, 1\,000-square-foot space. The owners have plans to invest over $150\,000 in renovations to the cottage property. \nRegistrations are closed for this event \n\n\n\n\n\n\n\n\n\n\n\n\n\n\n\n  \n\n\n\n\n\n\n \n\n\n\n\n\n\n\n\n 
URL:https://littletonbusinesschamber.org/event/grand-opening-ribbon-cutting-honnibrook-craft-meadery/
LOCATION:Honnibrook Craft Meadery\, 5757 S Rapp St.\, L\, 80120\, United States
CATEGORIES:Chamber Event Calendar
ATTACH;FMTTYPE=image/jpeg:https://littletonbusinesschamber.org/wp-content/uploads/ribbon-300x122-1-e1765391774900.jpg
END:VEVENT
BEGIN:VEVENT
DTSTART;TZID=America/Denver:20250514T160000
DTEND;TZID=America/Denver:20250514T180000
DTSTAMP:20260423T061833
CREATED:20250408T201555Z
LAST-MODIFIED:20250512T160737Z
UID:10000293-1747238400-1747245600@littletonbusinesschamber.org
SUMMARY:May Business After Hours at Moxycello
DESCRIPTION:  \nJoin us at our\nBusiness After Hours\, May 14\, 4-6 pm\, at moxYcello! Founded in 2020 in Littleton\, Colorado\, moxYcello is not your typical liqueur.\nJoin us in the Tasting Room for amazing cocktails\, food and conversation. \nRegistrations are closed for this event
URL:https://littletonbusinesschamber.org/event/may-business-after-hours-at-moxycello/
LOCATION:moxYcello Tasting Room\, 9719 W Coal Mine Ave\, Unit E\, Littleton\, CO\, 80123\, United States
CATEGORIES:Chamber Event Calendar
ATTACH;FMTTYPE=image/png:https://littletonbusinesschamber.org/wp-content/uploads/bah-logo-1-300x140-1.png
END:VEVENT
BEGIN:VEVENT
DTSTART;TZID=America/Denver:20250514T070000
DTEND;TZID=America/Denver:20250514T093000
DTSTAMP:20260423T061833
CREATED:20250220T172741Z
LAST-MODIFIED:20250512T024400Z
UID:10000270-1747206000-1747215000@littletonbusinesschamber.org
SUMMARY:Littleton 2025 State of The City Breakfast & LBC Business of the Year Award and Architectural Awards for New Build/Repurposed
DESCRIPTION:THIS EVENT IS SOLD OUT! \n \n  \nIn addition to the City Presentation by  Mayor Kyle Schlachter and City Staff – we will be presenting the Littleton Business Chamber Business the Year Award in addition to our Architectural Awards for New Build and Repurposed Buildings. \n 
URL:https://littletonbusinesschamber.org/event/littleton-2025-state-of-the-city-breakfast/
LOCATION:Ashley Ridge Event Center\, 8199 Southpark Ct\,\, Littleton\, CO\, 80120\, United States
CATEGORIES:Chamber Event Calendar
ATTACH;FMTTYPE=image/png:https://littletonbusinesschamber.org/wp-content/uploads/SotC-2025-Invitation_digital-p2-1.png
END:VEVENT
BEGIN:VEVENT
DTSTART;TZID=America/Denver:20250513T183000
DTEND;TZID=America/Denver:20250513T193000
DTSTAMP:20260423T061833
CREATED:20250501T211425Z
LAST-MODIFIED:20250507T181516Z
UID:10000311-1747161000-1747164600@littletonbusinesschamber.org
SUMMARY:Member Event - The Washington Update with Jeff Bush
DESCRIPTION:Jeff Bush_Watch Party
URL:https://littletonbusinesschamber.org/event/member-event-the-washington-update-with-jeff-bush/
CATEGORIES:Chamber Event Calendar
END:VEVENT
BEGIN:VEVENT
DTSTART;TZID=America/Denver:20250508T140000
DTEND;TZID=America/Denver:20250508T173000
DTSTAMP:20260423T061833
CREATED:20250206T201724Z
LAST-MODIFIED:20250430T152023Z
UID:10000269-1746712800-1746725400@littletonbusinesschamber.org
SUMMARY:Celebrating Small Business Week Presentations: Unlocking AI for Business Leaders: Boost Productivity & Drive Strategic Impact & Make Networking Your Superpower!
DESCRIPTION:  \n  \nEvent Schedule \n1:45 PM – Event Check-In \n2:00 PM – Session #1: Unlocking AI for Business Leaders: Boost Productivity & Drive Strategic Impact\, Presented by Sandra Gudat \nJoin this transformative session to explore practical applications of AI for enhancing personal productivity and driving organizational success. Sandra Gudat\, CEO of customer.com with a rich history of leading digital transformation for renowned brands\, will guide you through essential AI tools such as ChatGPT. Learn how to streamline daily tasks\, make informed decisions\, and support growth initiatives responsibly. This session is perfect for both AI newcomers and those seeking to deepen their understanding\, offering actionable strategies to elevate leadership in an increasingly AI-driven world. \n3:15 PM – Session #2: Make Networking Your Superpower! Presented by Sarah Hubbard \nDiscover the art of networking with Sarah Hubbard as she shares effective techniques to build meaningful connections and unlock professional opportunities. Enhance your career or business by leveraging relationships that increase your return on investment. This session aims to empower you with the skills to cultivate a powerful network. \n4:15 PM – 5:30 PM- Meet\, Greet and Connect \nPut your new networking skills into practice by mingling with other business owners and managers from the South Metro Area. Enjoy this opportunity to expand your professional circle. \nRegistrations are closed for this event
URL:https://littletonbusinesschamber.org/event/celebrating-small-business-week-presentations-unlocking-ai-for-business-leaders-boost-productivity-drive-strategic-impact-make-networking-your-superpower/
LOCATION:Kiln Workspaces Littleton\, 2650 W. Belleview Ave\, Littleton\, 80123\, United States
CATEGORIES:Chamber Event Calendar
ATTACH;FMTTYPE=image/png:https://littletonbusinesschamber.org/wp-content/uploads/small-biz-week-flyer-.png
END:VEVENT
BEGIN:VEVENT
DTSTART;TZID=America/Denver:20250507T160000
DTEND;TZID=America/Denver:20250507T180000
DTSTAMP:20260423T061833
CREATED:20250421T194642Z
LAST-MODIFIED:20250506T153150Z
UID:10000303-1746633600-1746640800@littletonbusinesschamber.org
SUMMARY:Ribbon Cutting 3rd Anniversary Celebration Navigate Health Chiropractic
DESCRIPTION:Registrations are closed for this event
URL:https://littletonbusinesschamber.org/event/ribbon-cutting-3rd-anniversary-celebration-navigate-health-chiropractic/
LOCATION:Navigate Health Chiropractic\, 200 W Coutny Line Rd Ste\, CO\, 80129
CATEGORIES:Chamber Event Calendar
ATTACH;FMTTYPE=image/jpeg:https://littletonbusinesschamber.org/wp-content/uploads/3Anniversary-Flyer-Navigate-Health.jpg
END:VEVENT
END:VCALENDAR