BEGIN:VCALENDAR
VERSION:2.0
PRODID:-//Littleton Business Chamber - ECPv6.15.20//NONSGML v1.0//EN
CALSCALE:GREGORIAN
METHOD:PUBLISH
X-WR-CALNAME:Littleton Business Chamber
X-ORIGINAL-URL:https://littletonbusinesschamber.org
X-WR-CALDESC:Events for Littleton Business Chamber
REFRESH-INTERVAL;VALUE=DURATION:PT1H
X-Robots-Tag:noindex
X-PUBLISHED-TTL:PT1H
BEGIN:VTIMEZONE
TZID:America/Denver
BEGIN:DAYLIGHT
TZOFFSETFROM:-0700
TZOFFSETTO:-0600
TZNAME:MDT
DTSTART:20240310T090000
END:DAYLIGHT
BEGIN:STANDARD
TZOFFSETFROM:-0600
TZOFFSETTO:-0700
TZNAME:MST
DTSTART:20241103T080000
END:STANDARD
BEGIN:DAYLIGHT
TZOFFSETFROM:-0700
TZOFFSETTO:-0600
TZNAME:MDT
DTSTART:20250309T090000
END:DAYLIGHT
BEGIN:STANDARD
TZOFFSETFROM:-0600
TZOFFSETTO:-0700
TZNAME:MST
DTSTART:20251102T080000
END:STANDARD
BEGIN:DAYLIGHT
TZOFFSETFROM:-0700
TZOFFSETTO:-0600
TZNAME:MDT
DTSTART:20260308T090000
END:DAYLIGHT
BEGIN:STANDARD
TZOFFSETFROM:-0600
TZOFFSETTO:-0700
TZNAME:MST
DTSTART:20261101T080000
END:STANDARD
END:VTIMEZONE
BEGIN:VEVENT
DTSTART;TZID=America/Denver:20250404T090000
DTEND;TZID=America/Denver:20250404T100000
DTSTAMP:20260423T141548
CREATED:20250319T164151Z
LAST-MODIFIED:20250403T205459Z
UID:10000285-1743757200-1743760800@littletonbusinesschamber.org
SUMMARY:New Member Orientation (or join us to learn what is new at the Chamber)
DESCRIPTION:Join the Chamber Ambassadors and our Chamber Executive Director.  Learn about the chamber programs and committees and how to make them work for you. \nRegistrations are closed for this event
URL:https://littletonbusinesschamber.org/event/new-member-orientation-or-join-us-to-learn-what-is-new-at-the-chamber-2/
LOCATION:Kiln Workspaces Littleton\, 2650 W. Belleview Ave\, Littleton\, 80123\, United States
CATEGORIES:Chamber Event Calendar
END:VEVENT
BEGIN:VEVENT
DTSTART;TZID=America/Denver:20250403T170000
DTEND;TZID=America/Denver:20250403T193000
DTSTAMP:20260423T141548
CREATED:20250220T174049Z
LAST-MODIFIED:20250403T210235Z
UID:10000271-1743699600-1743708600@littletonbusinesschamber.org
SUMMARY:South Suburban Parks and Recreation Candidate Forum
DESCRIPTION:3 Board Seats are open for the South Suburban Board of Directors. \nPlease join us  for light appetizers\, drinks and to meet the candidates running for this very important Board. \nMeet and Greet 5-6 pm \nCandidate Forum 6-7:15 pm \nCandidates invited to attend: \nJoshua Boone\nCathie Frazzini – incumbent\nKeith Gardner – incumbent\nSteve Kaverman\nTyler Linnebur\nLuke Lorenz\nDan Murphy\nRick Pilgrim\nJennifer Stearns\nLarry Vickerman\nRichard James Welch\nElizabeth Watson\nJoe Wilson\nPresented by Amy Conklin LLC\, South Metro Community Foundation and the Littleton Business Chamber. \nRegistrations are closed for this event
URL:https://littletonbusinesschamber.org/event/south-suburban-candidate-forum/
LOCATION:Kiln Workspaces Littleton\, 2650 W. Belleview Ave\, Littleton\, 80123\, United States
CATEGORIES:Chamber Event Calendar
END:VEVENT
BEGIN:VEVENT
DTSTART;TZID=America/Denver:20250327T150000
DTEND;TZID=America/Denver:20250327T170000
DTSTAMP:20260423T141548
CREATED:20250224T223836Z
LAST-MODIFIED:20250403T181625Z
UID:10000274-1743087600-1743094800@littletonbusinesschamber.org
SUMMARY:Social Spirits Hour with Tequila & Mescal Tasting hosted by Zoemi Romero Presented by WILL & Latino Business Committee
DESCRIPTION:  \nTequila & Mezcal tasting with Zoemi Romero/ Cencalli Taqueria\nJoin us for a tequila and mezcal tasting with Cencalli Taqueria – come for the fun\, stay for the fiesta! \n3-5 pm at kiln. Workspaces. \n\n		\n		\n\n	Join 16 others! 	\n\n	\n\n		\n		\n		\n		\n			\n			\n	\n\n		First*\n		\n				\n						\n\n\n\n		Last*\n		\n				\n						\n\n\n\n		Email*\n		\n				\n						\n\n\n\n		Please verify that you are not a robot*\n		\n				\n							\n\n\n		\n\n		\n			Comments\n			\n				\n				If you are a human\, do not fill in this field \n			\n		\n\n		\n			\n		\n\n	\n\n	\n			\n\n\n		\n			Already registered?\n			Already registered? \n\n			\n				Use this tool to manage your registration. \n				\n\n					\n						\n							Enter your registered email address*
URL:https://littletonbusinesschamber.org/event/social-spirits-hour-with-tequila-mescal-tasting-hosted-by-zoemi-romero/
LOCATION:Kiln Workspaces Littleton\, 2650 W. Belleview Ave\, Littleton\, 80123\, United States
CATEGORIES:Chamber Event Calendar
ATTACH;FMTTYPE=image/jpeg:https://littletonbusinesschamber.org/wp-content/uploads/1729570800140.jpg
END:VEVENT
BEGIN:VEVENT
DTSTART;TZID=America/Denver:20250327T130000
DTEND;TZID=America/Denver:20250327T140000
DTSTAMP:20260423T141548
CREATED:20250305T185339Z
LAST-MODIFIED:20250403T181629Z
UID:10000282-1743080400-1743084000@littletonbusinesschamber.org
SUMMARY:Chez Lizeth Creperie 1st Anniversary Ribbon Cutting
DESCRIPTION:Spend your Lunch Break at Chez Lizeth Creperie’s 1st Anniversary Celebration. \nAmazing food\, a beautiful and coze bistro atmosphere\, and a kind staff make Chez Lizeth a fun breakfast/Lunch restaurant. \nWe will be cutting the Ribbon at 1:15 pm – Lizeth will be sharing appetizers and samples for you to try. \nCelebrate with us. \n\n 
URL:https://littletonbusinesschamber.org/event/chez-lizeth-creperie-1st-anniversary-ribbon-cutting/
LOCATION:Chez Lizeth Creperie\, 5856 S Lowell Blvd\, Littleton\, CO\, 80123\, United States
CATEGORIES:Chamber Event Calendar
ATTACH;FMTTYPE=image/jpeg:https://littletonbusinesschamber.org/wp-content/uploads/476226044_10234003606022129_3428090287803822735_n.jpg
END:VEVENT
END:VCALENDAR