BEGIN:VCALENDAR
VERSION:2.0
PRODID:-//Littleton Business Chamber - ECPv6.15.20//NONSGML v1.0//EN
CALSCALE:GREGORIAN
METHOD:PUBLISH
X-ORIGINAL-URL:https://littletonbusinesschamber.org
X-WR-CALDESC:Events for Littleton Business Chamber
REFRESH-INTERVAL;VALUE=DURATION:PT1H
X-Robots-Tag:noindex
X-PUBLISHED-TTL:PT1H
BEGIN:VTIMEZONE
TZID:America/Denver
BEGIN:DAYLIGHT
TZOFFSETFROM:-0700
TZOFFSETTO:-0600
TZNAME:MDT
DTSTART:20250309T090000
END:DAYLIGHT
BEGIN:STANDARD
TZOFFSETFROM:-0600
TZOFFSETTO:-0700
TZNAME:MST
DTSTART:20251102T080000
END:STANDARD
BEGIN:DAYLIGHT
TZOFFSETFROM:-0700
TZOFFSETTO:-0600
TZNAME:MDT
DTSTART:20260308T090000
END:DAYLIGHT
BEGIN:STANDARD
TZOFFSETFROM:-0600
TZOFFSETTO:-0700
TZNAME:MST
DTSTART:20261101T080000
END:STANDARD
BEGIN:DAYLIGHT
TZOFFSETFROM:-0700
TZOFFSETTO:-0600
TZNAME:MDT
DTSTART:20270314T090000
END:DAYLIGHT
BEGIN:STANDARD
TZOFFSETFROM:-0600
TZOFFSETTO:-0700
TZNAME:MST
DTSTART:20271107T080000
END:STANDARD
END:VTIMEZONE
BEGIN:VEVENT
DTSTART;TZID=America/Denver:20260513T133000
DTEND;TZID=America/Denver:20260513T153000
DTSTAMP:20260422T225016
CREATED:20260408T210838Z
LAST-MODIFIED:20260416T223507Z
UID:10000455-1778679000-1778686200@littletonbusinesschamber.org
SUMMARY:Prepared & Protected: Igniting Business Readiness for Fire and Power Outages
DESCRIPTION:As our region faces increasing risks from historic drought\, heightened fire danger\, and potential power outages\, it’s more important than ever to ensure your business is prepared. \nJoin us for Prepared & Protected: Igniting Business Readiness for Fire and Power Outages\, an informative session designed to help business owners strengthen their emergency preparedness and continuity plans. \nOur Event sponsors: Arapahoe County Office of Emergency Management\, South Metro Fire Rescue\, and Xcel Energy will share critical insights\, practical strategies\, and resources to help you: \n\nProtect your employees\, customers\, and assets\nPrepare for fire and power-related disruptions\nStrengthen your business continuity plan\nRespond confidently in times of crisis\n\nThis is a valuable opportunity to gain expert guidance\, ask questions\, and ensure your business is ready for whatever comes next. \nWe encourage all business owners and leaders to attend and take a proactive step toward safeguarding your business. \nThank you City of Littleton for Hosting this Important Event! \n\n		\n		\n\n	Join 2 others! 	\n\n	\n\n		\n		\n		\n		\n			\n			\n	\n\n		First*\n		\n				\n						\n\n\n\n		Last*\n		\n				\n						\n\n\n\n		Email*\n		\n				\n						\n\n\n\n		Please verify that you are not a robot*\n		\n				\n							\n\n\n		\n\n		\n			Comments\n			\n				\n				If you are a human\, do not fill in this field \n			\n		\n\n		\n			\n		\n\n	\n\n	\n			\n\n\n		\n			Already registered?\n			Already registered? \n\n			\n				Use this tool to manage your registration. \n				\n\n					\n						\n							Enter your registered email address*
URL:https://littletonbusinesschamber.org/event/prepared-protected-igniting-business-readiness-for-fire-and-power-outages/
LOCATION:City of Littleton Building\, 2255 W. Berry Ave\, Littleton\, CO\, 80120\, United States
CATEGORIES:Chamber Event Calendar
ATTACH;FMTTYPE=image/jpeg:https://littletonbusinesschamber.org/wp-content/uploads/Business-Safety-Event-2.jpg
END:VEVENT
BEGIN:VEVENT
DTSTART;TZID=America/Denver:20260513T160000
DTEND;TZID=America/Denver:20260513T180000
DTSTAMP:20260422T225016
CREATED:20260311T163215Z
LAST-MODIFIED:20260311T163216Z
UID:10000440-1778688000-1778695200@littletonbusinesschamber.org
SUMMARY:May Business After Hours at Los Portales Mexican Restaurant Littleton
DESCRIPTION:  \nJose and Claudia are hosting our May Cinco De Mayo Business After Hours!  Join us at this hidden gem located near Santa Fe Drive and Prince St.  Incredible food and happy hour with a patio. \n\n		\n		\n\n	Join 3 others! 	\n\n	\n\n		\n		\n		\n		\n			\n			\n	\n\n		First*\n		\n				\n						\n\n\n\n		Last*\n		\n				\n						\n\n\n\n		Email*\n		\n				\n						\n\n\n\n		Please verify that you are not a robot*\n		\n				\n							\n\n\n		\n\n		\n			Comments\n			\n				\n				If you are a human\, do not fill in this field \n			\n		\n\n		\n			\n		\n\n	\n\n	\n			\n\n\n		\n			Already registered?\n			Already registered? \n\n			\n				Use this tool to manage your registration. \n				\n\n					\n						\n							Enter your registered email address*
URL:https://littletonbusinesschamber.org/event/may-business-after-hours-at-los-portales-mexican-restaurant-littleton/
LOCATION:Los Portales Mexican  Restaurant\, 5350 S Santa Fe Dr\, Littleton\, CO\, 80120\, United States
CATEGORIES:Chamber Event Calendar
ATTACH;FMTTYPE=image/jpeg:https://littletonbusinesschamber.org/wp-content/uploads/business-after-hours.jpg
END:VEVENT
BEGIN:VEVENT
DTSTART;TZID=America/Denver:20260528T090000
DTEND;TZID=America/Denver:20260528T113000
DTSTAMP:20260422T225016
CREATED:20260406T192739Z
LAST-MODIFIED:20260406T192952Z
UID:10000452-1779958800-1779967800@littletonbusinesschamber.org
SUMMARY:Community Engagement Quarterly Training "Colors Leadership Assessment"
DESCRIPTION:Kate Eckler and Briana McCrumb will be presenting the Colors Leadership Assessment. \nColor-based leadership assessments are tools designed to help individuals understand their personality preferences and leadership behaviors. These assessments categorize traits into four primary colors. \nColor leadership assessments provide a structured framework to understand and enhance leadership effectiveness\, improve communication\, and optimize team performance by recognizing and leveraging individual differences in personality and behavior. leadership assessments provide a structured framework to understand and enhance leadership effectiveness\, improve communication\, and optimize team performance by recognizing and leveraging individual differences in personality and behavior.  \nPlease register no later than May 1st so that you have time to complete the Colors Leadership Test. \n\n		\n		\n\n	Join 3 others! 	\n\n	\n\n		\n		\n		\n		\n			\n			\n	\n\n		First*\n		\n				\n						\n\n\n\n		Last*\n		\n				\n						\n\n\n\n		Email*\n		\n				\n						\n\n\n\n		Please verify that you are not a robot*\n		\n				\n							\n\n\n		\n\n		\n			Comments\n			\n				\n				If you are a human\, do not fill in this field \n			\n		\n\n		\n			\n		\n\n	\n\n	\n			\n\n\n		\n			Already registered?\n			Already registered? \n\n			\n				Use this tool to manage your registration. \n				\n\n					\n						\n							Enter your registered email address*
URL:https://littletonbusinesschamber.org/event/community-engagement-quarterly-training-colors-leadership-assessment/
LOCATION:Kiln Workspaces Littleton\, 2650 W. Belleview Ave\, Littleton\, 80123\, United States
CATEGORIES:Chamber Event Calendar
ATTACH;FMTTYPE=image/png:https://littletonbusinesschamber.org/wp-content/uploads/Community-Engagement-Committee-Logo-.png
END:VEVENT
BEGIN:VEVENT
DTSTART;TZID=America/Denver:20260610T160000
DTEND;TZID=America/Denver:20260610T180000
DTSTAMP:20260422T225016
CREATED:20260303T022825Z
LAST-MODIFIED:20260303T023011Z
UID:10000437-1781107200-1781114400@littletonbusinesschamber.org
SUMMARY:July Business After Hour at Huntington Bank
DESCRIPTION:Join us as we celebrate summer in the beautiful\, air-conditioned Huntington Bank. \nMike and his team have planned a fun afternoon- \n\n		\n		\n\n	Join one other person 	\n\n	\n\n		\n		\n		\n		\n			\n			\n	\n\n		First*\n		\n				\n						\n\n\n\n		Last*\n		\n				\n						\n\n\n\n		Email*\n		\n				\n						\n\n\n\n		Please verify that you are not a robot*\n		\n				\n							\n\n\n		\n\n		\n			Comments\n			\n				\n				If you are a human\, do not fill in this field \n			\n		\n\n		\n			\n		\n\n	\n\n	\n			\n\n\n		\n			Already registered?\n			Already registered? \n\n			\n				Use this tool to manage your registration. \n				\n\n					\n						\n							Enter your registered email address*
URL:https://littletonbusinesschamber.org/event/july-business-after-hour-at-huntington-bank/
LOCATION:Huntington Bank Littleton\, 2690 W Belleview Ave\,\, Littleton\, CO\, 80123\, United States
CATEGORIES:Chamber Event Calendar,Chamber Member Events
ATTACH;FMTTYPE=image/jpeg:https://littletonbusinesschamber.org/wp-content/uploads/business-after-hours.jpg
END:VEVENT
BEGIN:VEVENT
DTSTART;TZID=America/Denver:20260611T150000
DTEND;TZID=America/Denver:20260611T170000
DTSTAMP:20260422T225016
CREATED:20260406T212947Z
LAST-MODIFIED:20260417T183815Z
UID:10000453-1781190000-1781197200@littletonbusinesschamber.org
SUMMARY:Ribbon Cutting- Avajen  "IT Consulting"
DESCRIPTION:Please join us in welcoming Blake Marvin and his wife\, Jenny\, to downtown Littleton! \nWe’re excited to celebrate the opening of Avajen\, and IT Consulting Business\, with a Ribbon Cutting at 4:00 PM. Come out to enjoy great food and drinks while connecting with fellow local business owners. \n\n		\n		\n\n	Join one other person 	\n\n	\n\n		\n		\n		\n		\n			\n			\n	\n\n		First*\n		\n				\n						\n\n\n\n		Last*\n		\n				\n						\n\n\n\n		Email*\n		\n				\n						\n\n\n\n		Please verify that you are not a robot*\n		\n				\n							\n\n\n		\n\n		\n			Comments\n			\n				\n				If you are a human\, do not fill in this field \n			\n		\n\n		\n			\n		\n\n	\n\n	\n			\n\n\n		\n			Already registered?\n			Already registered? \n\n			\n				Use this tool to manage your registration. \n				\n\n					\n						\n							Enter your registered email address*
URL:https://littletonbusinesschamber.org/event/ribbon-cutting-avajen-it-consulting/
LOCATION:Avajen\, 2575 W. Church Ave\, Littleton\, CO\, 80120\, United States
CATEGORIES:Chamber Event Calendar
ATTACH;FMTTYPE=image/jpeg:https://littletonbusinesschamber.org/wp-content/uploads/ribbon-300x122-1-e1765391774900.jpg
END:VEVENT
BEGIN:VEVENT
DTSTART;TZID=America/Denver:20260629T160000
DTEND;TZID=America/Denver:20260629T180000
DTSTAMP:20260422T225016
CREATED:20260122T211714Z
LAST-MODIFIED:20260303T022132Z
UID:10000415-1782748800-1782756000@littletonbusinesschamber.org
SUMMARY:All Leads Group Quarterly Meeting hosted by Leads Group #2
DESCRIPTION:Join for Happy Hour\, networking and connection \n\n		\n		\n\n	Be the first! 	\n\n	\n\n		\n		\n		\n		\n			\n			\n	\n\n		First*\n		\n				\n						\n\n\n\n		Last*\n		\n				\n						\n\n\n\n		Email*\n		\n				\n						\n\n\n\n		Please verify that you are not a robot*\n		\n				\n							\n\n\n		\n\n		\n			Comments\n			\n				\n				If you are a human\, do not fill in this field \n			\n		\n\n		\n			\n		\n\n	\n\n	\n			\n\n\n		\n			Already registered?\n			Already registered? \n\n			\n				Use this tool to manage your registration. \n				\n\n					\n						\n							Enter your registered email address*
URL:https://littletonbusinesschamber.org/event/all-leads-group-quarterly-meeting-hosted-by-leads-group-2/
CATEGORIES:Chamber Member Events
ATTACH;FMTTYPE=image/jpeg:https://littletonbusinesschamber.org/wp-content/uploads/leads-group-logo.jpg
END:VEVENT
BEGIN:VEVENT
DTSTART;TZID=America/Denver:20260708T170000
DTEND;TZID=America/Denver:20260708T190000
DTSTAMP:20260422T225016
CREATED:20260303T231644Z
LAST-MODIFIED:20260303T232026Z
UID:10000439-1783530000-1783537200@littletonbusinesschamber.org
SUMMARY:July Business After Hours at Huntington Bank Littleton
DESCRIPTION:  \nJoin us for some Summer Fun at our July Business After Hours with Huntington Bank. \nGreat food\, drinks\, and fellowship. \n\n		\n		\n\n	Join 16 others! 	\n\n	\n\n		\n		\n		\n		\n			\n			\n	\n\n		First*\n		\n				\n						\n\n\n\n		Last*\n		\n				\n						\n\n\n\n		Email*\n		\n				\n						\n\n\n\n		Please verify that you are not a robot*\n		\n				\n							\n\n\n		\n\n		\n			Comments\n			\n				\n				If you are a human\, do not fill in this field \n			\n		\n\n		\n			\n		\n\n	\n\n	\n			\n\n\n		\n			Already registered?\n			Already registered? \n\n			\n				Use this tool to manage your registration. \n				\n\n					\n						\n							Enter your registered email address*
URL:https://littletonbusinesschamber.org/event/july-business-after-hours-at-huntington-bank-littleton/
LOCATION:Huntington Bank Littleton\, 2690 W Belleview Ave\,\, Littleton\, CO\, 80123\, United States
CATEGORIES:Chamber Event Calendar
ATTACH;FMTTYPE=image/jpeg:https://littletonbusinesschamber.org/wp-content/uploads/after-hours.jpg
END:VEVENT
BEGIN:VEVENT
DTSTART;TZID=America/Denver:20260716T160000
DTEND;TZID=America/Denver:20260716T180000
DTSTAMP:20260422T225016
CREATED:20260410T183410Z
LAST-MODIFIED:20260410T183905Z
UID:10000456-1784217600-1784224800@littletonbusinesschamber.org
SUMMARY:Women in Leadership at Apothecary Fairy
DESCRIPTION:Join us for this fun event and meet Elia Buice\, owner of Apothecary Fairy.  Located on the south side of Aspen Grove in their newer\, larger location  to offer DIY workshops\, events and parties to include cold-process soap making\, candle pouring and botanical sugar scrub blending. Coming this November\, the next evolution of Apothecary Fairy will include refillable product options (liquid soap\, shampoo and botanical room spray to name a few).  And in addition to our stocked inventory\, we also offer custom scented options as well as for our online customers. \nWe will be drinking lavendar lemonade while participating in a candle-making experience.  The cost is $20 to participate. Please bring your $20 the day of the event. \nAgenda \n\n4:30 – 4:40 PM (10 minutes): Welcome\n4:40 – 4:55 PM (15 minutes): Introduction\, story\, and overview of Apothecary Fairy\n4:55 – 6:00 PM: Candle-making experience and open networking\n\nPlease let us know if you will be attending this fun event! \n\n		\n		\n\n	Join one other person 	\n\n	\n\n		\n		\n		\n		\n			\n			\n	\n\n		First*\n		\n				\n						\n\n\n\n		Last*\n		\n				\n						\n\n\n\n		Email*\n		\n				\n						\n\n\n\n		Please verify that you are not a robot*\n		\n				\n							\n\n\n		\n\n		\n			Comments\n			\n				\n				If you are a human\, do not fill in this field \n			\n		\n\n		\n			\n		\n\n	\n\n	\n			\n\n\n		\n			Already registered?\n			Already registered? \n\n			\n				Use this tool to manage your registration. \n				\n\n					\n						\n							Enter your registered email address*
URL:https://littletonbusinesschamber.org/event/women-in-leadership-at-apothecary-fairy/
LOCATION:Apothecary Fairy at Aspen Grove\, 7301 S. Santa Fe Drive\, Littleton\, 80120\, United States
CATEGORIES:Chamber Event Calendar
ATTACH;FMTTYPE=image/png:https://littletonbusinesschamber.org/wp-content/uploads/WILL-logo.png
END:VEVENT
BEGIN:VEVENT
DTSTART;TZID=America/Denver:20260812T160000
DTEND;TZID=America/Denver:20260812T180000
DTSTAMP:20260422T225016
CREATED:20260303T022034Z
LAST-MODIFIED:20260303T022034Z
UID:10000436-1786550400-1786557600@littletonbusinesschamber.org
SUMMARY:August Business After Hours at Platte River Bar & Grill
DESCRIPTION:Join us for amazing food\, an amazing view\, and amazing company at Platte River Bar & Grill \nFirst round is on the chamber. \n\n		\n		\n\n	Join 57 others! 	\n\n	\n\n		\n		\n		\n		\n			\n			\n	\n\n		First*\n		\n				\n						\n\n\n\n		Last*\n		\n				\n						\n\n\n\n		Email*\n		\n				\n						\n\n\n\n		Please verify that you are not a robot*\n		\n				\n							\n\n\n		\n\n		\n			Comments\n			\n				\n				If you are a human\, do not fill in this field \n			\n		\n\n		\n			\n		\n\n	\n\n	\n			\n\n\n		\n			Already registered?\n			Already registered? \n\n			\n				Use this tool to manage your registration. \n				\n\n					\n						\n							Enter your registered email address*
URL:https://littletonbusinesschamber.org/event/august-business-after-hours-at-platte-river-bar-grill/
LOCATION:Platte River Bar and Grill\, 5995 S. Santa Fe Drive\, Littleton\, CO\, 80120
CATEGORIES:Chamber Event Calendar
ATTACH;FMTTYPE=image/jpeg:https://littletonbusinesschamber.org/wp-content/uploads/business-after-hours.jpg
END:VEVENT
BEGIN:VEVENT
DTSTART;TZID=America/Denver:20260820T170000
DTEND;TZID=America/Denver:20260820T190000
DTSTAMP:20260422T225016
CREATED:20260421T192828Z
LAST-MODIFIED:20260421T195024Z
UID:10000457-1787245200-1787252400@littletonbusinesschamber.org
SUMMARY:Women in Leadership with Now or Never Travel
DESCRIPTION:
URL:https://littletonbusinesschamber.org/event/women-in-leadership-with-now-or-never-travel/
CATEGORIES:Chamber Event Calendar
END:VEVENT
BEGIN:VEVENT
DTSTART;TZID=America/Denver:20260929T090000
DTEND;TZID=America/Denver:20260929T103000
DTSTAMP:20260422T225016
CREATED:20260122T211931Z
LAST-MODIFIED:20260122T211932Z
UID:10000416-1790672400-1790677800@littletonbusinesschamber.org
SUMMARY:All Leads Group Quarterly Meeting hosted by Leads Group #3
DESCRIPTION:Join us for a continental breakfast\, networking and connection. \n\n		\n		\n\n	Be the first! 	\n\n	\n\n		\n		\n		\n		\n			\n			\n	\n\n		First*\n		\n				\n						\n\n\n\n		Last*\n		\n				\n						\n\n\n\n		Email*\n		\n				\n						\n\n\n\n		Please verify that you are not a robot*\n		\n				\n							\n\n\n		\n\n		\n			Comments\n			\n				\n				If you are a human\, do not fill in this field \n			\n		\n\n		\n			\n		\n\n	\n\n	\n			\n\n\n		\n			Already registered?\n			Already registered? \n\n			\n				Use this tool to manage your registration. \n				\n\n					\n						\n							Enter your registered email address*
URL:https://littletonbusinesschamber.org/event/all-leads-group-quarterly-meeting-hosted-by-leads-group-3/
LOCATION:Adventures in Dance\, 1500 W. Littleton Blvd #207\, Littleton\, CO\, 80120\, United States
CATEGORIES:Chamber Member Events
ATTACH;FMTTYPE=image/jpeg:https://littletonbusinesschamber.org/wp-content/uploads/leads-group-logo.jpg
END:VEVENT
END:VCALENDAR