BEGIN:VCALENDAR
VERSION:2.0
PRODID:-//Littleton Business Chamber - ECPv6.15.20//NONSGML v1.0//EN
CALSCALE:GREGORIAN
METHOD:PUBLISH
X-ORIGINAL-URL:https://littletonbusinesschamber.org
X-WR-CALDESC:Events for Littleton Business Chamber
REFRESH-INTERVAL;VALUE=DURATION:PT1H
X-Robots-Tag:noindex
X-PUBLISHED-TTL:PT1H
BEGIN:VTIMEZONE
TZID:America/Denver
BEGIN:DAYLIGHT
TZOFFSETFROM:-0700
TZOFFSETTO:-0600
TZNAME:MDT
DTSTART:20250309T090000
END:DAYLIGHT
BEGIN:STANDARD
TZOFFSETFROM:-0600
TZOFFSETTO:-0700
TZNAME:MST
DTSTART:20251102T080000
END:STANDARD
BEGIN:DAYLIGHT
TZOFFSETFROM:-0700
TZOFFSETTO:-0600
TZNAME:MDT
DTSTART:20260308T090000
END:DAYLIGHT
BEGIN:STANDARD
TZOFFSETFROM:-0600
TZOFFSETTO:-0700
TZNAME:MST
DTSTART:20261101T080000
END:STANDARD
BEGIN:DAYLIGHT
TZOFFSETFROM:-0700
TZOFFSETTO:-0600
TZNAME:MDT
DTSTART:20270314T090000
END:DAYLIGHT
BEGIN:STANDARD
TZOFFSETFROM:-0600
TZOFFSETTO:-0700
TZNAME:MST
DTSTART:20271107T080000
END:STANDARD
END:VTIMEZONE
BEGIN:VEVENT
DTSTART;TZID=America/Denver:20260415T160000
DTEND;TZID=America/Denver:20260415T180000
DTSTAMP:20260424T102753
CREATED:20260130T183345Z
LAST-MODIFIED:20260414T204320Z
UID:10000420-1776268800-1776276000@littletonbusinesschamber.org
SUMMARY:30th Birthday Ribbon Cutting Melting Pot Littleton
DESCRIPTION:  \nHelp us Celebrate 30 Years in Downtown  as we cut the “Pearl” colored ribbon and birthday cake at 5pm . \nThere will be drink specials and a photo booth. \nRegistrations are closed for this event
URL:https://littletonbusinesschamber.org/event/30th-anniversary-ribbon-cutting-melting-pot-littleton/
LOCATION:Melting Pot Littleton\, 2707 W Main St\, Littleton\, CO\, 80120\, United States
CATEGORIES:Chamber Event Calendar
ATTACH;FMTTYPE=image/jpeg:https://littletonbusinesschamber.org/wp-content/uploads/logo-30.jpg
END:VEVENT
END:VCALENDAR