BEGIN:VCALENDAR
VERSION:2.0
PRODID:-//Littleton Business Chamber - ECPv6.15.20//NONSGML v1.0//EN
CALSCALE:GREGORIAN
METHOD:PUBLISH
X-ORIGINAL-URL:https://littletonbusinesschamber.org
X-WR-CALDESC:Events for Littleton Business Chamber
REFRESH-INTERVAL;VALUE=DURATION:PT1H
X-Robots-Tag:noindex
X-PUBLISHED-TTL:PT1H
BEGIN:VTIMEZONE
TZID:America/Denver
BEGIN:DAYLIGHT
TZOFFSETFROM:-0700
TZOFFSETTO:-0600
TZNAME:MDT
DTSTART:20250309T090000
END:DAYLIGHT
BEGIN:STANDARD
TZOFFSETFROM:-0600
TZOFFSETTO:-0700
TZNAME:MST
DTSTART:20251102T080000
END:STANDARD
BEGIN:DAYLIGHT
TZOFFSETFROM:-0700
TZOFFSETTO:-0600
TZNAME:MDT
DTSTART:20260308T090000
END:DAYLIGHT
BEGIN:STANDARD
TZOFFSETFROM:-0600
TZOFFSETTO:-0700
TZNAME:MST
DTSTART:20261101T080000
END:STANDARD
BEGIN:DAYLIGHT
TZOFFSETFROM:-0700
TZOFFSETTO:-0600
TZNAME:MDT
DTSTART:20270314T090000
END:DAYLIGHT
BEGIN:STANDARD
TZOFFSETFROM:-0600
TZOFFSETTO:-0700
TZNAME:MST
DTSTART:20271107T080000
END:STANDARD
END:VTIMEZONE
BEGIN:VEVENT
DTSTART;TZID=America/Denver:20260407T124500
DTEND;TZID=America/Denver:20260407T131500
DTSTAMP:20260422T123953
CREATED:20260323T205827Z
LAST-MODIFIED:20260323T205926Z
UID:10000447-1775565900-1775567700@littletonbusinesschamber.org
SUMMARY:Support Inc Littleton Ribbon Cutting
DESCRIPTION:Join one our newest Littleton Business Chamber as they celebrate their Grand Opening in Littleton in the Woodlawn Shopping Center. \nRibbon Cutting at 1pm by West Metro Chamber.  Food\, Drinks\, and Fun. \nEvery day is a day to thrive. That’s the mission of Support Inc: to serve intellectually and developmentally disabled clients in innovative\, personalized and cost-effective ways. \nWith services designed to support the whole individual\, we strive to redefine the experience of community living. Our experienced team of on-staff professionals includes: \n\nCase coordinators\nNursing staff\nTherapeutic and behavioral experts\n\nRegistrations are closed for this event
URL:https://littletonbusinesschamber.org/event/support-inc-littleton-ribbon-cutting/
LOCATION:Support Inc Littleton\, 1500 W. Littleton Blvd\, Littleton\, 80120\, United States
CATEGORIES:Chamber Event Calendar
ATTACH;FMTTYPE=image/jpeg:https://littletonbusinesschamber.org/wp-content/uploads/support-inc.jpg
END:VEVENT
END:VCALENDAR