BEGIN:VCALENDAR
VERSION:2.0
PRODID:-//Littleton Business Chamber - ECPv6.15.20//NONSGML v1.0//EN
CALSCALE:GREGORIAN
METHOD:PUBLISH
X-ORIGINAL-URL:https://littletonbusinesschamber.org
X-WR-CALDESC:Events for Littleton Business Chamber
REFRESH-INTERVAL;VALUE=DURATION:PT1H
X-Robots-Tag:noindex
X-PUBLISHED-TTL:PT1H
BEGIN:VTIMEZONE
TZID:UTC
BEGIN:STANDARD
TZOFFSETFROM:+0000
TZOFFSETTO:+0000
TZNAME:UTC
DTSTART:20250101T000000
END:STANDARD
END:VTIMEZONE
BEGIN:VEVENT
DTSTART;TZID=UTC:20260323T080000
DTEND;TZID=UTC:20260323T170000
DTSTAMP:20260424T120001
CREATED:20260323T200640Z
LAST-MODIFIED:20260323T200641Z
UID:10000446-1774252800-1774285200@littletonbusinesschamber.org
SUMMARY:Ribbon Cutting Support Inc.
DESCRIPTION:Welcome Support Inc. to Littleton (Woodlawn Shopping Center).  Every day is a day to thrive. That’s the mission of Support Inc.: to serve intellectually and developmentally disabled clients in innovative\, personalized and cost-effective ways. \nWith services designed to support the whole individual\, we strive to redefine the experience of community living. Our experienced team of on-staff professionals includes: \nJoin us for a ribbon cutting at 1pm\, food\, prizes – ribbon cutting by the West Metro Chamber.
URL:https://littletonbusinesschamber.org/event/ribbon-cutting-support-inc/
LOCATION:Support Inc.\, 1500 W. Littleton Blvd #207\, Littleton\, CO\, 80120\, United States
CATEGORIES:Chamber Event Calendar
END:VEVENT
END:VCALENDAR